BEGIN:VCALENDAR
VERSION:2.0
PRODID:-//La JaJa - ECPv4.3.4.1//NONSGML v1.0//EN
CALSCALE:GREGORIAN
METHOD:PUBLISH
X-WR-CALNAME:La JaJa
X-ORIGINAL-URL:https://www.lajajakids.com/en
X-WR-CALDESC:Events for La JaJa
BEGIN:VEVENT
DTSTART;VALUE=DATE:20181020
DTEND;VALUE=DATE:20181020
DTSTAMP:20260423T194814
CREATED:20171028T064248Z
LAST-MODIFIED:20181019T203219Z
UID:53496-1539993600-1540079999@www.lajajakids.com
SUMMARY:Spooky Science Night
DESCRIPTION:\n\n\nThe Columbia Memorial Space Center (CMSC) will be hosting their annual Spooky Science Night on Saturday\, October 28th from 5:00pm to 9:00pm.  CMSC will be offering a variety of activities and demonstrations throughout the evening\, such as make your own slime\, spooky robotics labs\, a costume parade\, and much more.  CMSC will have My Delight Cupcakery at the event too!  The sweet treats from My Delight are to die for…\n\nCMSC is also proud to host International Observe the Moon Night in conjunction with Spooky Science this year! Guests will have an opportunity to view the moon and anything else in the night sky thanks to the Columbia Astronomers who will be hosting a variety of telescopes on the front lawn of CMSC.\n\nAdmission to the center will be $5 or FREE for CMSC members.\n\nDon’t miss out on this SPOOKTAKCULAR event!\n\n\n
URL:https://www.lajajakids.com/en/event/%e5%9c%8b%e9%9a%9b%e8%a7%80%e6%9c%88%e4%b9%8b%e5%a4%9c/
LOCATION:12400 Columbia Way\, Downey\, CA\, 90242\, United States
GEO:33.9198273;-118.1336299
X-APPLE-STRUCTURED-LOCATION;VALUE=URI;X-ADDRESS=12400 Columbia Way Downey CA 90242 United States;X-APPLE-RADIUS=500;X-TITLE=12400 Columbia Way:geo:-118.1336299,33.9198273
CATEGORIES:Red,JaJa’s Picks
ATTACH;FMTTYPE=image/jpeg:https://www.lajajakids.com/wp-content/uploads/2017/10/geminid20091209-full.jpg
END:VEVENT
END:VCALENDAR