BEGIN:VCALENDAR
VERSION:2.0
PRODID:-//La JaJa - ECPv4.3.4.1//NONSGML v1.0//EN
CALSCALE:GREGORIAN
METHOD:PUBLISH
X-WR-CALNAME:La JaJa
X-ORIGINAL-URL:https://www.lajajakids.com/en
X-WR-CALDESC:Events for La JaJa
BEGIN:VEVENT
DTSTART;VALUE=DATE:20181027
DTEND;VALUE=DATE:20181027
DTSTAMP:20260422T010627
CREATED:20181026T152212Z
LAST-MODIFIED:20181026T152212Z
UID:64203-1540598400-1540684799@www.lajajakids.com
SUMMARY:Free Drive-Thru Vaccination Clinic
DESCRIPTION:The Long Beach Department of Health and Human Services\, in partnership with a number of City departments and local organizations\, will host a large-scale Flu Vaccination Clinic on October 27\, 2018\, from 9:00 am to 2:00 pm at Veterans Memorial Stadium\, located at 5000 E. Lew Davis Street.\n\nLast year was a particularly severe flu season\, with Centers for Disease Control and Prevention (CDC) estimating that more than 900\,000 people were hospitalized and more than 80\,000 people died from the flu last season. These numbers emphasize the seriousness and severity of flu illness and serve as a strong reminder of the importance of flu vaccination. Flu vaccination has not only been shown to reduce the risk of flu illness\, but also to reduce the risk of serious flu outcomes that may result in hospitalization and even death.\n\nThe Flu Vaccination Clinic on October 27 will be the largest flu vaccination clinic in Long Beach since the H1N1 pandemic in 2009\, and attendees will have the option of receiving their vaccines without even exiting their cars!\n\nAnyone 12 years and older can receive the vaccine in a drive-thru. Families with children under 12 years old will be directed to a walk-up area to receive their vaccines.
URL:https://www.lajajakids.com/en/event/%e5%85%8d%e8%b2%bbdrive-thru%e6%8e%a5%e7%a8%ae%e8%a8%ba%e6%89%80/
LOCATION:5000 E. Lew Davis Street.\, Long Beach\, CA\, United States
CATEGORIES:Red,JaJa’s Picks
ATTACH;FMTTYPE=image/jpeg:https://www.lajajakids.com/wp-content/uploads/2018/10/iStock-643631204-750x350.jpg
END:VEVENT
END:VCALENDAR