BEGIN:VCALENDAR
VERSION:2.0
PRODID:-//La JaJa - ECPv4.3.4.1//NONSGML v1.0//EN
CALSCALE:GREGORIAN
METHOD:PUBLISH
X-WR-CALNAME:La JaJa
X-ORIGINAL-URL:https://www.lajajakids.com/en
X-WR-CALDESC:Events for La JaJa
BEGIN:VEVENT
DTSTART;TZID=America/Los_Angeles:20180408T100000
DTEND;TZID=America/Los_Angeles:20180408T170000
DTSTAMP:20260420T011411
CREATED:20180406T063334Z
LAST-MODIFIED:20180406T063334Z
UID:58453-1523181600-1523206800@www.lajajakids.com
SUMMARY:Free Day at the La Habra Children's Museum
DESCRIPTION:\n\nThe La Habra Children's Museum  gets in the Earth Month mood\, with activities from composting to creating whimsical art with recycled materials.\n\nLa Habra Children's Museum free admission day is on the first Sunday of every month. To prevent overcrowding\, a total of 500  handstamps are distributed at 1pm for the two afternoon sessions (1pm -2:45pm and 3:15-5pm). There is no admittance once all 500 slots are filled.
URL:https://www.lajajakids.com/en/event/%e5%85%8d%e8%b2%bb%e5%8f%83%e8%a7%80%e6%97%a5la-habra-childrens-museum/
LOCATION:301 South Euclid Street\, La Habrea\, CA\, 90631\, United States
GEO:33.9296523;-117.946959
X-APPLE-STRUCTURED-LOCATION;VALUE=URI;X-ADDRESS=301 South Euclid Street La Habrea CA 90631 United States;X-APPLE-RADIUS=500;X-TITLE=301 South Euclid Street:geo:-117.946959,33.9296523
CATEGORIES:Yellow
END:VEVENT
END:VCALENDAR