BEGIN:VCALENDAR
VERSION:2.0
PRODID:-//La JaJa - ECPv4.3.4.1//NONSGML v1.0//EN
CALSCALE:GREGORIAN
METHOD:PUBLISH
X-WR-CALNAME:La JaJa
X-ORIGINAL-URL:https://www.lajajakids.com/en
X-WR-CALDESC:Events for La JaJa
BEGIN:VEVENT
DTSTART;VALUE=DATE:20180303
DTEND;VALUE=DATE:20180303
DTSTAMP:20260424T032340
CREATED:20180303T043712Z
LAST-MODIFIED:20180303T043712Z
UID:57286-1520035200-1520121599@www.lajajakids.com
SUMMARY:Kids in the Kitchen Healthy Eating & Exercise Fair
DESCRIPTION:Join us in our "Food & Play Zone!" as we team up with Long Beaach City College Culinary Arts Department and prepare for you some of our yummiest fruit & veggie samples! We will also have fun play activities for the kids and garden tours!\n\nThe Juinior League of Long Beach will have an amazing event focused on "Heathy Eating & Exercise" with games\, prize giveaways\, resources\, activities and stage performances!
URL:https://www.lajajakids.com/en/event/%e5%84%bf%e7%ab%a5%e5%81%a5%e5%ba%b7%e5%90%83%e7%8e%a9%e6%97%a5/
LOCATION:1950 Lemon Ave.\, Long Beach\, CA\, 90806\, United States
GEO:33.7918744;-118.1780458
X-APPLE-STRUCTURED-LOCATION;VALUE=URI;X-ADDRESS=1950 Lemon Ave. Long Beach CA 90806 United States;X-APPLE-RADIUS=500;X-TITLE=1950 Lemon Ave.:geo:-118.1780458,33.7918744
CATEGORIES:Red,JaJa’s Picks
ATTACH;FMTTYPE=image/png:https://www.lajajakids.com/wp-content/uploads/2018/03/KITK5.png
END:VEVENT
END:VCALENDAR