BEGIN:VCALENDAR
VERSION:2.0
PRODID:-//La JaJa - ECPv4.3.4.1//NONSGML v1.0//EN
CALSCALE:GREGORIAN
METHOD:PUBLISH
X-WR-CALNAME:La JaJa
X-ORIGINAL-URL:https://www.lajajakids.com/en
X-WR-CALDESC:Events for La JaJa
BEGIN:VEVENT
DTSTART;VALUE=DATE:20180505
DTEND;VALUE=DATE:20180505
DTSTAMP:20260426T030226
CREATED:20180504T210846Z
LAST-MODIFIED:20180504T210846Z
UID:59474-1525478400-1525564799@www.lajajakids.com
SUMMARY:Cinco de Mayo Fiesta
DESCRIPTION:Cinco de Mayo\nCelebrate Culture\, Food\, and Entertainment in the Spanish Village by the Sea!\n\n\tDate:05/05/2018 2:00 PM - 6:00 PM\n\tLocation:Max Berg Plaza Park\n1100 Calle Puente\nSan Clemente\, California 92672\n\tCelebrate Culture\, Food\, and Entertainment in the Spanish Village by the Sea! Entertainment begins at 2pm with the following talent line-up:\n\n2pm - Mariachi Los Patrillos\n\n3pm - Chinelos Dancers\n\n3:30pm - Los Fabulocos\n\n4:30pm - Ballet Folklorico Grupo Nueva Amanecer\n\n5pm - Grupo Dilema\n\nFood trucks\, petting zoo\, train\, crafts\, games\, and more!\n
URL:https://www.lajajakids.com/en/event/%e4%ba%94%e6%9c%88%e4%ba%94%e6%97%a5%e7%af%80%e6%85%b6%e7%a5%9d%e6%9c%83/
LOCATION:1100 Calle Puente\, San Clemente\, CA\, United States
CATEGORIES:Red,JaJa’s Picks
ATTACH;FMTTYPE=image/jpeg:https://www.lajajakids.com/wp-content/uploads/2018/05/5492.jpg
END:VEVENT
END:VCALENDAR