BEGIN:VCALENDAR
VERSION:2.0
PRODID:-//La JaJa - ECPv4.3.4.1//NONSGML v1.0//EN
CALSCALE:GREGORIAN
METHOD:PUBLISH
X-WR-CALNAME:La JaJa
X-ORIGINAL-URL:https://www.lajajakids.com/en
X-WR-CALDESC:Events for La JaJa
BEGIN:VEVENT
DTSTART;VALUE=DATE:20170629
DTEND;VALUE=DATE:20170702
DTSTAMP:20260419T141110
CREATED:20170629T195341Z
LAST-MODIFIED:20170629T195341Z
UID:45080-1498694400-1499039999@www.lajajakids.com
SUMMARY:Chill Together Event
DESCRIPTION:Buy one grande iced espresso\, get one free. 6/27-7/2\, 2-5pm. (US only.)
URL:https://www.lajajakids.com/en/event/%e4%b8%80%e8%b5%b7%e5%8e%bb%e6%98%9f%e5%b7%b4%e5%85%8b%e6%b6%88%e6%9a%91%e5%86%b0%e6%b6%bc/
LOCATION:United States
GEO:37.09024;-95.712891
CATEGORIES:Red,JaJa’s Picks
ATTACH;FMTTYPE=image/jpeg:https://www.lajajakids.com/wp-content/uploads/2017/06/Starbucks-6.jpg
END:VEVENT
END:VCALENDAR