BEGIN:VCALENDAR
VERSION:2.0
PRODID:-//La JaJa - ECPv4.3.4.1//NONSGML v1.0//EN
CALSCALE:GREGORIAN
METHOD:PUBLISH
X-WR-CALNAME:La JaJa
X-ORIGINAL-URL:https://www.lajajakids.com/en
X-WR-CALDESC:Events for La JaJa
BEGIN:VEVENT
DTSTART;VALUE=DATE:20180923
DTEND;VALUE=DATE:20180923
DTSTAMP:20260425T024438
CREATED:20180922T120023Z
LAST-MODIFIED:20180922T120023Z
UID:63513-1537660800-1537747199@www.lajajakids.com
SUMMARY:Sukkot on the AK Farm
DESCRIPTION:Sukkot is our festival of booths when we build a temporary shelter and fill it with the plentitude of life – friends\, food and fun times.  As Abbot Kinney Blvd. is footsteps away\, we dedicate our Sukkot Festival as “Sukkot on the AK Farm” to commemorate Abbot Kinney’s vision had for a “Venice by the Sea” – a community of inclusivity\, creativity and vision – which is kind of like what Sukkot is all about. With donuts\, cider and arts and crafts\, its a day to say yes to life\, learn more about Open Temple and our Arts 36 Hebrew School of the Arts for Kids and connect with community.\n\nFREE – please reserve your tickets at Eventbrite.\n\nQuestions? Email info@opentemple.org\n\nOpen Temple House\n1422 Electric Ave\nVenice\, CA 90291
URL:https://www.lajajakids.com/en/event/%d7%a1%d7%95%d7%9b%d7%95%d7%aa-%e4%bd%8f%e6%a3%9a%e7%af%80/
LOCATION:1422 Electric Ave.\, Venice\, CA\, United States
CATEGORIES:Red,JaJa’s Picks
ATTACH;FMTTYPE=image/png:https://www.lajajakids.com/wp-content/uploads/2018/09/kid-with-palm-fronds-jewish-holiday.png
END:VEVENT
END:VCALENDAR