BEGIN:VCALENDAR
VERSION:2.0
PRODID:-//La JaJa - ECPv4.3.4.1//NONSGML v1.0//EN
CALSCALE:GREGORIAN
METHOD:PUBLISH
X-WR-CALNAME:La JaJa
X-ORIGINAL-URL:http://www.lajajakids.com
X-WR-CALDESC:Events for La JaJa
BEGIN:VEVENT
DTSTART;VALUE=DATE:20181124
DTEND;VALUE=DATE:20191114
DTSTAMP:20260421T212227
CREATED:20170520T031254Z
LAST-MODIFIED:20181122T193813Z
UID:40421-1543017600-1573775999@www.lajajakids.com
SUMMARY:週末免費兒童手工藝課
DESCRIPTION:11:00 am - 3:00 pm\n\nEvery Saturday we do free crafts for kids! Come by today By and make a fun cool craft with us! Our crafts are always awesome! Call or check our website for specific craft each week!\n\nOct 6: Crafty Corn on the Cob\nOct 13: Cute to the Core Craft\nOct 20: Silly Spider Headband\nOct 27: “I Want to Be…” Career Mask\n\nNov 3: Falling Leaves 3-D Tree\nNov 10: Friendly Fall Scarecrow\nNov 17: Hide-And-Seek Turkey\nNov 24: My Favorite Slice of Pie
URL:http://www.lajajakids.com/event/weekly-free-crafts-for-kids-%e9%80%b1%e6%9c%ab%e5%85%8d%e8%b2%bb%e5%85%92%e7%ab%a5%e6%89%8b%e5%b7%a5%e8%97%9d%e8%aa%b2-3/2018-11-24/
ATTACH;FMTTYPE=image/jpeg:http://www.lajajakids.com/wp-content/uploads/2017/04/AT4150_Main.jpg
END:VEVENT
BEGIN:VEVENT
DTSTART;VALUE=DATE:20181222
DTEND;VALUE=DATE:20191222
DTSTAMP:20260421T212227
CREATED:20170420T213727Z
LAST-MODIFIED:20181221T173819Z
UID:23149-1545436800-1577059199@www.lajajakids.com
SUMMARY:費格羅大道週末兒童俱樂部
DESCRIPTION:2:00 to 4:00pm\n\nFIGat7th Kids Club\nFREE Arts & Crafts Workshop\nEvery 2nd & 4th Saturday | 2pm-4pm\nTASTE Level (Lower Level\, M1)\nFree & Open to the Public\n\nChildren must be accompanied by adult. Art workshops are suitable for all children ages 3 and older.\n\nUpcoming Workshops:\n\n7/8: Envelope Origami Hand Puppet\n7/22: Beach Wallet\n\n8/12: Jurassic Dinosaur Art\n8/26: Sand Mandala\n\n9/9: Giant Origami Crane\n9/23: 3-D Carousel\n\n\n\n10/27: Monster Mask\n11/10: 3-D Autumn Tree Sculpture\n11/24: Metal working\n12/8: Mosaic\n12/22: Snow Globes\n\n\n\nhttp://www.figat7th.com/events/
URL:http://www.lajajakids.com/event/figat7th-kids-club-%e8%b2%bb%e6%a0%bc%e7%be%85%e5%a4%a7%e9%81%93%e9%80%b1%e6%9c%ab%e5%85%92%e7%ab%a5%e4%bf%b1%e6%a8%82%e9%83%a8-2/2018-12-22/
LOCATION:735 South Figueroa St.\,  Los Angeles\, CA\, 90017\, United States
GEO:34.0492459;-118.2617532
X-APPLE-STRUCTURED-LOCATION;VALUE=URI;X-ADDRESS=735 South Figueroa St.  Los Angeles CA 90017 United States;X-APPLE-RADIUS=500;X-TITLE=735 South Figueroa St.:geo:-118.2617532,34.0492459
CATEGORIES:Red,精選推介
ATTACH;FMTTYPE=image/jpeg:http://www.lajajakids.com/wp-content/uploads/2017/04/Figat7thFest-WEB-image-300x142.jpg
END:VEVENT
BEGIN:VEVENT
DTSTART;VALUE=DATE:20190217
DTEND;VALUE=DATE:20190317
DTSTAMP:20260421T212227
CREATED:20180120T051427Z
LAST-MODIFIED:20190215T235252Z
UID:55733-1550361600-1552867199@www.lajajakids.com
SUMMARY:植物樂園學習班
DESCRIPTION:The vermiculture process uses worms to break down food waste to make nutritious soil for plants to grow in. In this workshop\, learn how to make your own miniature worm composting bins using recycled materials. Supplies limited; register by Thursday before start date.\n\nParticipants should bring two nested containers. They can be yogurt containers\, to-go soup containers\, large tupperware\, etc. The container should be plastic and preferably with a lid and a wide mouth. Holes will be punctured to the lid and bottom of the containers for drainage and air. Soil\, shredded newspaper\, bits of food and worms will be provided on the day of the workshop.\n\nWorkshops are weather permitting.\n\nFebruary 17: Squirmy Wormies\nMarch 17: Spring is Here
URL:http://www.lajajakids.com/event/%e6%a4%8d%e7%89%a9%e6%a8%82%e5%9c%92%e5%ad%b8%e7%bf%92%e7%8f%ad/
LOCATION:6990 Marine Way\,\, Irvine\, CA\, 92618\, United States
GEO:33.6731428;-117.751158
X-APPLE-STRUCTURED-LOCATION;VALUE=URI;X-ADDRESS=6990 Marine Way Irvine CA 92618 United States;X-APPLE-RADIUS=500;X-TITLE=6990 Marine Way\,:geo:-117.751158,33.6731428
CATEGORIES:Red,精選推介
ATTACH;FMTTYPE=image/jpeg:http://www.lajajakids.com/wp-content/uploads/2018/01/img-0208_orig.jpg
END:VEVENT
BEGIN:VEVENT
DTSTART;VALUE=DATE:20190316
DTEND;VALUE=DATE:20190317
DTSTAMP:20260421T212227
CREATED:20170420T215114Z
LAST-MODIFIED:20190315T215137Z
UID:23160-1552694400-1552867199@www.lajajakids.com
SUMMARY:國際兒童節
DESCRIPTION:祝各位小朋友國際兒童節快樂！\n\n兒童節是為紀念保障兒童權利、反對虐待兒童或毒害兒童的節日。目前世界上大部份國家和地區都將6月1日訂定為國際兒童節，其他國家和地區則依照各自的文化而訂定不同的兒童節日期。\n\nInternational Day for Protection of Children\, observed in many countries as Children's Day on June 1 since 1950\, was established by the Women's International Democratic Federation on its congress in Moscow (22 November 1949).\n\n由來 :\n1925年在瑞士日內瓦召開的關於兒童福利的國際會議上，國際兒童幸福促進會首次提出了「兒童節」的概念，號召各國設立自己的兒童紀念日。1949年，國際民主婦女聯合會在莫斯科會議中訂定6月1日為國際兒童節，以紀念1942年6月10日被納粹德國屠殺的捷克利迪策村的88名兒童。
URL:http://www.lajajakids.com/event/international-childrens-day-%e5%9c%8b%e9%9a%9b%e5%85%92%e7%ab%a5%e7%af%80/2019-03-16/
CATEGORIES:Red,精選推介
ATTACH;FMTTYPE=image/jpeg:http://www.lajajakids.com/wp-content/uploads/2019/02/IMG_2421.jpg
END:VEVENT
BEGIN:VEVENT
DTSTART;VALUE=DATE:20190316
DTEND;VALUE=DATE:20190317
DTSTAMP:20260421T212227
CREATED:20180316T235213Z
LAST-MODIFIED:20190315T211419Z
UID:57720-1552694400-1552867199@www.lajajakids.com
SUMMARY:洛杉磯自然文化嘉年華
DESCRIPTION:\n\nLos Angeles Natural History Museum 洛杉磯自然歷史博物館於  3 月 17 & 18 日連續兩天舉辦 “ 洛杉磯自然文化嘉年華 ” ，來到這裡可以學習有關動物、植物的知識，並了解屬於洛杉磯的本地獨特自然生態，還可以親手摸摸小動物，學習他們的身體結構及特徵！\n\n活動詳情\n\n\t現場超過 30家 L.Ａ當地組織參展\n\t專業自然科學家回答你所有有關自然、動物問題\n\t舞台表演及動物介紹\n\t清晨散步及賞鳥活動\n\t自然手工藝品\n\n活動費用\n\n\t2 歲以下 - 免費\n\t3 ~ 12 歲 \, $ 7\n\t13 ~17歲及 62歲以上\, $ 12\n\t成人\, $15\n
URL:http://www.lajajakids.com/event/%e6%b4%9b%e6%9d%89%e7%a3%af%e8%87%aa%e7%84%b6%e6%96%87%e5%8c%96%e5%98%89%e5%b9%b4%e8%8f%af/
LOCATION:900 Exposition Blvd\, \, Los Angeles\, CA\, 90007\, United States
GEO:34.0170769;-118.2886818
X-APPLE-STRUCTURED-LOCATION;VALUE=URI;X-ADDRESS=900 Exposition Blvd  Los Angeles CA 90007 United States;X-APPLE-RADIUS=500;X-TITLE=900 Exposition Blvd\,:geo:-118.2886818,34.0170769
CATEGORIES:Red,精選推介
ATTACH;FMTTYPE=image/jpeg:http://www.lajajakids.com/wp-content/uploads/2018/03/Tour-Nature-Gardens-cropped1.jpg
END:VEVENT
BEGIN:VEVENT
DTSTART;VALUE=DATE:20190316
DTEND;VALUE=DATE:20190317
DTSTAMP:20260421T212227
CREATED:20180317T001714Z
LAST-MODIFIED:20190315T213658Z
UID:57723-1552694400-1552867199@www.lajajakids.com
SUMMARY:America's Teaching Zoo 春季動物嘉年華
DESCRIPTION:\n\nThe zoo celebrates animals and learning at Moorpark College's annual Spring Spectacular.\n\nDifferent animals are featured every hour in the Eye to Eye Theater\, and children can also enjoy arts and crafts\, live animals\, a butterfly conservation station\, puppet shows\, and more in the Kids' Zone. Outside organizations\, including the Friends of California Condors\, share educational displays\, too.\n\nThis years theme is "EATM Crackers" An all time favorite snack (Animal Crackers) comes to life showcasing a mysterious box with a touch of magic.\n\nThe animal shows during this event are much more involved than the usual weekly shows\, so even if you think you've seen everything the Teaching Zoo has to offer\, it's worth another trip to Moorpark.\n\n \n\nMoorpark學院的教學動物園，連續兩個周末舉辦春季動物嘉年華，讓孩子們可以藉由活動學習動物及保育知識，如蝴蝶保育區、禿鷹教育展、木偶戲、及藝術手工藝品等，還有不同的動物 SHOW可以觀看，另外還有兩隻小老虎喔！\n\n活動期間的動物表演比以往的節目還要多，所以就算你去過了，還是值得再去。\n\n活動時間：\n\n\t3 月 17 - 18 日 10:00 am to 5:00 pm\n\t3 月24 - 25 日 10:00 am to 5:00 pm\n\n活動費用\n\n\t2歲以下\, 免費\n\t動物園會員\, $5\n\t孩童及老年\, $ 7\n\t成人\, $10\n
URL:http://www.lajajakids.com/event/americas-teaching-zoo-%e6%98%a5%e5%ad%a3%e5%8b%95%e7%89%a9%e5%98%89%e5%b9%b4%e8%8f%af/
LOCATION:7075 Campus Road\, Moorpark\, CA\, 93021\, United States
GEO:34.3018444;-118.8351921
X-APPLE-STRUCTURED-LOCATION;VALUE=URI;X-ADDRESS=7075 Campus Road Moorpark CA 93021 United States;X-APPLE-RADIUS=500;X-TITLE=7075 Campus Road:geo:-118.8351921,34.3018444
CATEGORIES:Pink
ATTACH;FMTTYPE=image/jpeg:http://www.lajajakids.com/wp-content/uploads/2018/03/Spring-Spec-11x17-2019.jpg
END:VEVENT
BEGIN:VEVENT
DTSTART;VALUE=DATE:20190316
DTEND;VALUE=DATE:20190317
DTSTAMP:20260421T212227
CREATED:20180317T012606Z
LAST-MODIFIED:20190315T213829Z
UID:57793-1552694400-1552867199@www.lajajakids.com
SUMMARY:亨廷頓櫻花節
DESCRIPTION:The Huntington Beach Sister City Association is a volunteer organization dedicated to maintaining the tradition of friendship and cultural exchange with our sister city in Anjo\, Japan.  In 2013 the Huntington Beach Cherry Blossom festival was created by one of our student ambassadors as her Girl Scout Gold Award project after realizing the program was in jeopardy due to a lack of funding.  The Huntington Beach Cherry Blossom Festival features Japanese dance\, music\, cultural exhibits\, arts\, crafts and games and has become known for it's delicious Japanese food offerings!  The festival is advertised throughout Orange County and Los Angeles County and on social media.  Attendance at last years Festival was well over 8\,000 with a delegation coming all the way from Japan for the event!  If you would like to be involved with the Huntington Beach Sister City program as either a student ambassador or chaperone we encourage you to apply! For more information please visit our website www.hbsca.org
URL:http://www.lajajakids.com/event/%e4%ba%a8%e5%bb%b7%e9%a0%93%e6%ab%bb%e8%8a%b1%e7%af%80/
LOCATION:7111 Talbert Avenue\, Huntington Beach\, CA\, United States
GEO:33.7019442;-118.004519
X-APPLE-STRUCTURED-LOCATION;VALUE=URI;X-ADDRESS=7111 Talbert Avenue Huntington Beach CA United States;X-APPLE-RADIUS=500;X-TITLE=7111 Talbert Avenue:geo:-118.004519,33.7019442
CATEGORIES:Red,精選推介
ATTACH;FMTTYPE=image/jpeg:http://www.lajajakids.com/wp-content/uploads/2018/03/washington_dc_cherry_blossom_sunrise.jpg
END:VEVENT
BEGIN:VEVENT
DTSTART;VALUE=DATE:20190316
DTEND;VALUE=DATE:20190317
DTSTAMP:20260421T212227
CREATED:20180504T091523Z
LAST-MODIFIED:20190315T215505Z
UID:59395-1552694400-1552867199@www.lajajakids.com
SUMMARY:蝴蝶野放季
DESCRIPTION:時間：10:00 am to 2:00 pm\n年齡：2歲以上\n價格：入場費用（毛毛蟲 $5.50）\n\n孩子們可以了解蝴蝶及他們的生命週期。現場還有提供 DIY 活動。民眾也可以帶自己的蝴蝶一起放飛喔！
URL:http://www.lajajakids.com/event/%e8%9d%b4%e8%9d%b6%e9%87%8e%e6%94%be%e5%ad%a3/
LOCATION: 480 N. Arroyo Blvd\, Pasadena\, CA\, 91103\, United States
GEO:34.1554477;-118.1639971
X-APPLE-STRUCTURED-LOCATION;VALUE=URI;X-ADDRESS=480 N. Arroyo Blvd Pasadena CA 91103 United States;X-APPLE-RADIUS=500;X-TITLE=480 N. Arroyo Blvd:geo:-118.1639971,34.1554477
CATEGORIES:Red,精選推介
ATTACH;FMTTYPE=image/jpeg:http://www.lajajakids.com/wp-content/uploads/2018/05/Butterfly-Confetti-Celebration-650x220.jpg
END:VEVENT
BEGIN:VEVENT
DTSTART;VALUE=DATE:20190317
DTEND;VALUE=DATE:20190317
DTSTAMP:20260421T212227
CREATED:20180303T050249Z
LAST-MODIFIED:20190316T015750Z
UID:57295-1552780800-1552867199@www.lajajakids.com
SUMMARY:圣塔莫尼卡嘉年华
DESCRIPTION:\nWelcome to The Santa Monica Synagogue\nThe Santa Monica Synagogue is an intimate Reform congregation of 250 families\, founded in 1981. We come together to worship\, study\, engage in tikun olam (repairing the world)\, celebrate our joyous occasions\, and be a support to one another in times of difficulty.\n\nWe worship God and celebrate our Jewish heritage in an egalitarian atmosphere that invites participation and creativity.  Through religious observances\, educational programs\, and social gatherings\, our synagogue offers opportunities for individuals and families to enrich their lives\, connect with others\, and to discover our own relationship to Judaism.\n\n\nCome Visit\n\nPurim Carnival\nJoin us for fun\, games and festivities at our annual Purim Carnival in collaboration with congregation Beth Shir Shalom on Sunday March 4th from 11 am – 3 pm.\n\n
URL:http://www.lajajakids.com/event/%e5%9c%a3%e5%a1%94%e8%8e%ab%e5%b0%bc%e5%8d%a1%e5%98%89%e5%b9%b4%e5%8d%8e/
LOCATION:1448 18th Street\, Santa Monica\, CA\, 90404\, United States
GEO:34.0258084;-118.4806468
X-APPLE-STRUCTURED-LOCATION;VALUE=URI;X-ADDRESS=1448 18th Street Santa Monica CA 90404 United States;X-APPLE-RADIUS=500;X-TITLE=1448 18th Street:geo:-118.4806468,34.0258084
CATEGORIES:Red,精選推介
ATTACH;FMTTYPE=image/jpeg:http://www.lajajakids.com/wp-content/uploads/2018/03/7dc6fb2883.jpg
END:VEVENT
BEGIN:VEVENT
DTSTART;VALUE=DATE:20190317
DTEND;VALUE=DATE:20190317
DTSTAMP:20260421T212227
CREATED:20180303T124659Z
LAST-MODIFIED:20190316T022613Z
UID:57320-1552780800-1552867199@www.lajajakids.com
SUMMARY:普林節慶祝會
DESCRIPTION:Get ready for the rootinest\, tootinest Purim party this side of Shushan!\nBring your lil’ cowgirls n’ cowboys down to the Wild Wise West for the funnest\, fastest\, carnivalest day of the year.\nREAD OUR GUIDE TO SUNDAY’S CARNIVAL\nDOWNLOAD OUR EVENT MAP\nEARLYBIRD PRICES\n(Prices end Friday\, March 15 at 4 p.m.)\n$40 for kids (5-18 years old)\n$20 for lil’ cowpokes (2-4 years old)\nFree for adults and kids under 2.\nFood and beverages not included.\nREGULAR PRICES\n$50 for kids (5-18 years old)\n$30 for lil’ cowpokes (2-4 years old)\nFree for adults and kids under 2.\nFood and beverages not included.
URL:http://www.lajajakids.com/event/vbs%e6%99%ae%e6%9e%97%e7%af%80%e6%85%b6%e7%a5%9d%e6%9c%83/
LOCATION:15500 Stephen S Wise Drive\, Los Angeles\, CA\, United States
CATEGORIES:Red,精選推介
ATTACH;FMTTYPE=image/jpeg:http://www.lajajakids.com/wp-content/uploads/2018/03/05-GBC-VBS.jpg
END:VEVENT
BEGIN:VEVENT
DTSTART;VALUE=DATE:20190317
DTEND;VALUE=DATE:20190317
DTSTAMP:20260421T212227
CREATED:20180316T234108Z
LAST-MODIFIED:20190316T015544Z
UID:57713-1552780800-1552867199@www.lajajakids.com
SUMMARY:Sierra Madre 紫藤花嘉年華
DESCRIPTION:\n金氏世界紀錄 123 歲高齡的紫藤花將於本周末3月17-18日免費對外開放，3 月 17 日也是一年之中唯一的一天，紫藤花的私人民宅將對外開放。觀看地點在Hermosa Ave. 和Carter Ave.，如果從小城市區走路上去，約要半小時，需要注意有些路段可能會封路，另外可以利用付費 Shuttle Bus上山，成人$12、3~14歲$ 7。\n
URL:http://www.lajajakids.com/event/sierra-madre-%e7%b4%ab%e8%97%a4%e8%8a%b1%e5%98%89%e5%b9%b4%e8%8f%af/
LOCATION:N. Baldwin Avenue\, Sierra Madre\, Sierra Madre\, CA\, 91024\, United States
GEO:34.1570654;-118.0529758
X-APPLE-STRUCTURED-LOCATION;VALUE=URI;X-ADDRESS=N. Baldwin Avenue Sierra Madre Sierra Madre CA 91024 United States;X-APPLE-RADIUS=500;X-TITLE=N. Baldwin Avenue\, Sierra Madre:geo:-118.0529758,34.1570654
CATEGORIES:Pink
ATTACH;FMTTYPE=image/jpeg:http://www.lajajakids.com/wp-content/uploads/2018/03/1978297_10152093330264215_913790327_o.jpg
END:VEVENT
BEGIN:VEVENT
DTSTART;VALUE=DATE:20190317
DTEND;VALUE=DATE:20190317
DTSTAMP:20260421T212227
CREATED:20180317T002211Z
LAST-MODIFIED:20190316T015937Z
UID:57735-1552780800-1552867199@www.lajajakids.com
SUMMARY:農場市場“聖派翠克節”派對
DESCRIPTION:Celebrate St. Patrick's Day with authentic Irish food\, green beer and live music all day long!\n\nEnjoy traditional Irish folk bands on the Market's East and West Patios and a strolling bagpiper throughout the day.\n\nMagee's Kitchen\, the Market's first eatery\, will be serving their world famous corned beef\, cabbage and potato plate all day long! Green beer and imported Irish beers will be on tap from E.B's and Bar 326.
URL:http://www.lajajakids.com/event/%e8%be%b2%e5%a0%b4%e5%b8%82%e5%a0%b4%e8%81%96%e6%b4%be%e7%bf%a0%e5%85%8b%e7%af%80%e6%b4%be%e5%b0%8d/
LOCATION:6333 West Third Street\, Los Angeles\, CA\, United States
GEO:34.0719421;-118.3602568
X-APPLE-STRUCTURED-LOCATION;VALUE=URI;X-ADDRESS=6333 West Third Street Los Angeles CA United States;X-APPLE-RADIUS=500;X-TITLE=6333 West Third Street:geo:-118.3602568,34.0719421
CATEGORIES:Red,精選推介
ATTACH;FMTTYPE=image/jpeg:http://www.lajajakids.com/wp-content/uploads/2018/03/rock-reillys-st-paddys-day.jpg
END:VEVENT
BEGIN:VEVENT
DTSTART;VALUE=DATE:20190317
DTEND;VALUE=DATE:20190317
DTSTAMP:20260421T212227
CREATED:20180317T005953Z
LAST-MODIFIED:20190316T021247Z
UID:57767-1552780800-1552867199@www.lajajakids.com
SUMMARY:Courtyard聖派翠克節慶祝日
DESCRIPTION:\n\n\nPLENTY OF IRISH GIGS AND JIGS GOING ON IN THE COURTYARD ON ST. PADDY’S – CLEARY IRISH DANCE PERFORMANCE & LESSON\nWe’re kicking up our ghillies to celebrate St. Paddy’s Day with nifty family-oriented events. We’ll be dancing\, crafting and the Pasadena Scots will come marching in with bagpipes and drums. Come spend the day with us!\n\n11a – 12p Cleary Irish Dance Performance & Lesson\n\nCleary Irish Dance will perform traditional Irish dances followed by a kicky\, interactive dance lesson in which the audience will be taught a jig or two. Exuberance welcome; Riverdance outfits optional.\n\nJoining us? Click here to let us know.\n\nCleary Irish Dance has performed with notable Irish entertainers such as the Chieftains and the Irish Rovers\, as well as at the Hollywood Bowl with the Disney Young Symphony Orchestra. Cleary Irish Dance competes at the regional and national level\, and members represent the Western U.S. region at the World Championships in Ireland.\n\n\n
URL:http://www.lajajakids.com/event/courtyard%e8%81%96%e6%b4%be%e7%bf%a0%e5%85%8b%e7%af%80%e6%85%b6%e7%a5%9d%e6%97%a5/
LOCATION:24 East Union Street\, Pasadena\, CA\, 91103\, United States
GEO:34.1467025;-118.1497505
X-APPLE-STRUCTURED-LOCATION;VALUE=URI;X-ADDRESS=24 East Union Street Pasadena CA 91103 United States;X-APPLE-RADIUS=500;X-TITLE=24 East Union Street:geo:-118.1497505,34.1467025
CATEGORIES:Red,精選推介
ATTACH;FMTTYPE=image/jpeg:http://www.lajajakids.com/wp-content/uploads/2018/03/StPatricks_Parade2016-22.jpg
END:VEVENT
BEGIN:VEVENT
DTSTART;VALUE=DATE:20190317
DTEND;VALUE=DATE:20190317
DTSTAMP:20260421T212227
CREATED:20180317T013021Z
LAST-MODIFIED:20190316T015350Z
UID:57798-1552780800-1552867199@www.lajajakids.com
SUMMARY:蝴蝶展示館
DESCRIPTION:March 18 - September 3\, 2018\nButterflies are taking flight at NHMLA! Get up close to beautiful butterflies in our new Butterfly Pavilion. This seasonal exhibit — located outside on the south side of the Museum — features more flight space\, more resting spots\, and more natural light. There will be hundreds of free-flying butterflies inside\, and our awesome Gallery Interpreters who can explain why these animals are so special.
URL:http://www.lajajakids.com/event/%e8%9d%b4%e8%9d%b6%e5%b1%95%e7%a4%ba%e9%a4%a8/
LOCATION:900 Exposition Boulevard\, Los Angeles\, CA\, 90007\, United States
GEO:34.0170769;-118.2886818
X-APPLE-STRUCTURED-LOCATION;VALUE=URI;X-ADDRESS=900 Exposition Boulevard Los Angeles CA 90007 United States;X-APPLE-RADIUS=500;X-TITLE=900 Exposition Boulevard:geo:-118.2886818,34.0170769
CATEGORIES:Red,精選推介
ATTACH;FMTTYPE=image/jpeg:http://www.lajajakids.com/wp-content/uploads/2018/03/dsc-0151-web.jpg
END:VEVENT
BEGIN:VEVENT
DTSTART;VALUE=DATE:20190317
DTEND;VALUE=DATE:20190317
DTSTAMP:20260421T212228
CREATED:20190316T020953Z
LAST-MODIFIED:20190316T020953Z
UID:66917-1552780800-1552867199@www.lajajakids.com
SUMMARY:普林節正義狂歡節
DESCRIPTION:The story of Purim\, as told in Megillat Esther\, warns us of two characteristics of antisemitism that feel eerily familiar: the facility and immediacy with which animus toward one Jew becomes a vendetta against all\, and the danger of overt antisemitism colliding with its more subterranean counterpart. These eternal truths call us to account for our own complicity as we too often excuse anti-Jewish bias when it manifests among our allies\, all for the sake of the greater good. This is no longer about right vs left; we have to know that it’s the normalization of antisemitism on both right and left that poses the greatest danger.\n\n
URL:http://www.lajajakids.com/event/%e6%99%ae%e6%9e%97%e7%af%80%e6%ad%a3%e7%be%a9%e7%8b%82%e6%ad%a1%e7%af%80/
LOCATION:910 S Fairfax Ave.\, Los Angeles\, CA\, United States
CATEGORIES:Red,精選推介
ATTACH;FMTTYPE=image/jpeg:http://www.lajajakids.com/wp-content/uploads/2019/03/purim.jpg
END:VEVENT
BEGIN:VEVENT
DTSTART;VALUE=DATE:20190317
DTEND;VALUE=DATE:20190317
DTSTAMP:20260421T212228
CREATED:20190316T021848Z
LAST-MODIFIED:20190316T021848Z
UID:66921-1552780800-1552867199@www.lajajakids.com
SUMMARY:聖帕特裡克節友好家庭活動
DESCRIPTION:Purpose Behind the Play: Number concepts\, language and communication development\, prosocial and helping behaviors\, concept development and gross locomotor practice.  \n\n\tSmart Art (Art Studio-Times Vary): Shamrock Stamping > The art studio has gone to the leprechauns today as we play with\, create\, and decorate shamrocks of all shapes and sizes!  \n\tSensational Story Time (11:30 am): How to Trap a Leprechaun –Legend says that if you catch a leprechaun\, he will grant you any wish. Join the quest to help four children build and set a trap of their own. After the story we will work together to build our own leprechaun trap.  \n\tGood to Go Activity (3:00 pm): End of the Rainbow Treasure Hunt – Our rainbow has lost its pot of gold! Using your child’s color identification skills go on a treasure hunt through the city to see if you can find the rainbow’s pot of gold!   \n\nGrown-up Tip: Don’t just wear your green\, eat your green! Do you have trouble getting your child to eat their greens? St. Patrick’s Day is the perfect opportunity to play on the color of the day with food. Fill a muffin pan with various healthy green foods like celery\, cucumbers\, avocados\, and more. Tell your child that they will be tasting leprechaun food. This will inspire your child to eat healthy and have fun!
URL:http://www.lajajakids.com/event/%e8%81%96%e5%b8%95%e7%89%b9%e8%a3%a1%e5%85%8b%e7%af%80%e5%8f%8b%e5%a5%bd%e5%ae%b6%e5%ba%ad%e6%b4%bb%e5%8b%95/
LOCATION:29 Hubble\, Irvine\, CA\, 92618\, United States
GEO:33.6420096;-117.7396999
X-APPLE-STRUCTURED-LOCATION;VALUE=URI;X-ADDRESS=29 Hubble Irvine CA 92618 United States;X-APPLE-RADIUS=500;X-TITLE=29 Hubble:geo:-117.7396999,33.6420096
CATEGORIES:Red,精選推介
ATTACH;FMTTYPE=image/png:http://www.lajajakids.com/wp-content/uploads/2019/03/11.png
END:VEVENT
BEGIN:VEVENT
DTSTART;VALUE=DATE:20190317
DTEND;VALUE=DATE:20190317
DTSTAMP:20260421T212228
CREATED:20190316T023042Z
LAST-MODIFIED:20190316T023042Z
UID:66927-1552780800-1552867199@www.lajajakids.com
SUMMARY:Alpert JCC普林節嘉年華
DESCRIPTION:Alpert Jewish Community Center's 2019 Community Purim Carnival features circus entertainment from the Aerial Butterflies\, rides (Ferris wheel\, train\, pony rides\, mechanical bull)\, an inflatable obstacle course\, carnival games\, vendors\, prizes\, a costume contest\, food\, and hamantashen.\n\nUnlimited attraction wristbands available for $25; wristband is $20 with donation of two nonperishable food items for the Beach Hillel Pantry.
URL:http://www.lajajakids.com/event/alpert-jcc%e6%99%ae%e6%9e%97%e7%af%80%e5%98%89%e5%b9%b4%e8%8f%af/
LOCATION:3801 E Willow St\, Long Beach\, CA\, United States
CATEGORIES:Red,精選推介
ATTACH;FMTTYPE=image/jpeg:http://www.lajajakids.com/wp-content/uploads/2019/03/Purim_Flyer_2019_Z.jpg
END:VEVENT
BEGIN:VEVENT
DTSTART;VALUE=DATE:20190317
DTEND;VALUE=DATE:20190317
DTSTAMP:20260421T212228
CREATED:20190316T023535Z
LAST-MODIFIED:20190316T023535Z
UID:66932-1552780800-1552867199@www.lajajakids.com
SUMMARY:達比·奧吉爾和小人國
DESCRIPTION:Darby O’Gill (Albert Sharpe) is the rascally old raconteur of Rathcullen\, and though his tales seem tall\, they’re about the littlest legends in Irish lore! A strapping young Dubliner named Michael (Sean Connery) is hired to replace Darby as caretaker of the Fitzpatrick estate\, and soon falls in love with Darby’s beautiful daughter Katie (Janet Munro). While forces in the town attempt to disrupt life for their clan\, Darby must call upon his friendly rival for assistance\, the leader of the leprechauns\, King Brian (Jimmy O’Dea). Only together can they hope to maintain happiness and balance in their musical\, magical town!\n\n“Darby O’Gill and the Little People is not only one of Disney’s best films\, but is certainly one of the best fantasies ever put on film.” – Leonard Maltin\n\n“Being a Disney product\, it is as technically perfect a job as can be had: the Technicolor\, the camera work\, the special effects\, the Irish music and all are a rich feast for anyone’s eye and ear.” – Charles Stinson\, Los Angeles Times
URL:http://www.lajajakids.com/event/%e9%81%94%e6%af%94%c2%b7%e5%a5%a7%e5%90%89%e7%88%be%e5%92%8c%e5%b0%8f%e4%ba%ba%e5%9c%8b/
LOCATION:7165 Beverly Blvd\, Los Angeles\, CA\, United States
GEO:34.0764408;-118.3457564
X-APPLE-STRUCTURED-LOCATION;VALUE=URI;X-ADDRESS=7165 Beverly Blvd Los Angeles CA United States;X-APPLE-RADIUS=500;X-TITLE=7165 Beverly Blvd:geo:-118.3457564,34.0764408
CATEGORIES:Red,精選推介
ATTACH;FMTTYPE=image/jpeg:http://www.lajajakids.com/wp-content/uploads/2019/03/Darby-OGill-poster-385x578.jpg
END:VEVENT
END:VCALENDAR