BEGIN:VCALENDAR
VERSION:2.0
PRODID:-//La JaJa - ECPv4.3.4.1//NONSGML v1.0//EN
CALSCALE:GREGORIAN
METHOD:PUBLISH
X-WR-CALNAME:La JaJa
X-ORIGINAL-URL:http://www.lajajakids.com
X-WR-CALDESC:Events for La JaJa
BEGIN:VEVENT
DTSTART;VALUE=DATE:20181124
DTEND;VALUE=DATE:20191114
DTSTAMP:20260423T053817
CREATED:20170520T031254Z
LAST-MODIFIED:20181122T193813Z
UID:40421-1543017600-1573775999@www.lajajakids.com
SUMMARY:週末免費兒童手工藝課
DESCRIPTION:11:00 am - 3:00 pm\n\nEvery Saturday we do free crafts for kids! Come by today By and make a fun cool craft with us! Our crafts are always awesome! Call or check our website for specific craft each week!\n\nOct 6: Crafty Corn on the Cob\nOct 13: Cute to the Core Craft\nOct 20: Silly Spider Headband\nOct 27: “I Want to Be…” Career Mask\n\nNov 3: Falling Leaves 3-D Tree\nNov 10: Friendly Fall Scarecrow\nNov 17: Hide-And-Seek Turkey\nNov 24: My Favorite Slice of Pie
URL:http://www.lajajakids.com/event/weekly-free-crafts-for-kids-%e9%80%b1%e6%9c%ab%e5%85%8d%e8%b2%bb%e5%85%92%e7%ab%a5%e6%89%8b%e5%b7%a5%e8%97%9d%e8%aa%b2-3/2018-11-24/
ATTACH;FMTTYPE=image/jpeg:http://www.lajajakids.com/wp-content/uploads/2017/04/AT4150_Main.jpg
END:VEVENT
BEGIN:VEVENT
DTSTART;VALUE=DATE:20181222
DTEND;VALUE=DATE:20191222
DTSTAMP:20260423T053817
CREATED:20170420T213727Z
LAST-MODIFIED:20181221T173819Z
UID:23149-1545436800-1577059199@www.lajajakids.com
SUMMARY:費格羅大道週末兒童俱樂部
DESCRIPTION:2:00 to 4:00pm\n\nFIGat7th Kids Club\nFREE Arts & Crafts Workshop\nEvery 2nd & 4th Saturday | 2pm-4pm\nTASTE Level (Lower Level\, M1)\nFree & Open to the Public\n\nChildren must be accompanied by adult. Art workshops are suitable for all children ages 3 and older.\n\nUpcoming Workshops:\n\n7/8: Envelope Origami Hand Puppet\n7/22: Beach Wallet\n\n8/12: Jurassic Dinosaur Art\n8/26: Sand Mandala\n\n9/9: Giant Origami Crane\n9/23: 3-D Carousel\n\n\n\n10/27: Monster Mask\n11/10: 3-D Autumn Tree Sculpture\n11/24: Metal working\n12/8: Mosaic\n12/22: Snow Globes\n\n\n\nhttp://www.figat7th.com/events/
URL:http://www.lajajakids.com/event/figat7th-kids-club-%e8%b2%bb%e6%a0%bc%e7%be%85%e5%a4%a7%e9%81%93%e9%80%b1%e6%9c%ab%e5%85%92%e7%ab%a5%e4%bf%b1%e6%a8%82%e9%83%a8-2/2018-12-22/
LOCATION:735 South Figueroa St.\,  Los Angeles\, CA\, 90017\, United States
GEO:34.0492459;-118.2617532
X-APPLE-STRUCTURED-LOCATION;VALUE=URI;X-ADDRESS=735 South Figueroa St.  Los Angeles CA 90017 United States;X-APPLE-RADIUS=500;X-TITLE=735 South Figueroa St.:geo:-118.2617532,34.0492459
CATEGORIES:Red,精選推介
ATTACH;FMTTYPE=image/jpeg:http://www.lajajakids.com/wp-content/uploads/2017/04/Figat7thFest-WEB-image-300x142.jpg
END:VEVENT
BEGIN:VEVENT
DTSTART;VALUE=DATE:20190217
DTEND;VALUE=DATE:20190317
DTSTAMP:20260423T053817
CREATED:20180120T051427Z
LAST-MODIFIED:20190215T235252Z
UID:55733-1550361600-1552867199@www.lajajakids.com
SUMMARY:植物樂園學習班
DESCRIPTION:The vermiculture process uses worms to break down food waste to make nutritious soil for plants to grow in. In this workshop\, learn how to make your own miniature worm composting bins using recycled materials. Supplies limited; register by Thursday before start date.\n\nParticipants should bring two nested containers. They can be yogurt containers\, to-go soup containers\, large tupperware\, etc. The container should be plastic and preferably with a lid and a wide mouth. Holes will be punctured to the lid and bottom of the containers for drainage and air. Soil\, shredded newspaper\, bits of food and worms will be provided on the day of the workshop.\n\nWorkshops are weather permitting.\n\nFebruary 17: Squirmy Wormies\nMarch 17: Spring is Here
URL:http://www.lajajakids.com/event/%e6%a4%8d%e7%89%a9%e6%a8%82%e5%9c%92%e5%ad%b8%e7%bf%92%e7%8f%ad/
LOCATION:6990 Marine Way\,\, Irvine\, CA\, 92618\, United States
GEO:33.6731428;-117.751158
X-APPLE-STRUCTURED-LOCATION;VALUE=URI;X-ADDRESS=6990 Marine Way Irvine CA 92618 United States;X-APPLE-RADIUS=500;X-TITLE=6990 Marine Way\,:geo:-117.751158,33.6731428
CATEGORIES:Red,精選推介
ATTACH;FMTTYPE=image/jpeg:http://www.lajajakids.com/wp-content/uploads/2018/01/img-0208_orig.jpg
END:VEVENT
BEGIN:VEVENT
DTSTART;VALUE=DATE:20190309
DTEND;VALUE=DATE:20190310
DTSTAMP:20260423T053817
CREATED:20180317T011501Z
LAST-MODIFIED:20190308T184802Z
UID:57768-1552089600-1552262399@www.lajajakids.com
SUMMARY:收養毛毛蟲蝴蝶季50週年
DESCRIPTION:\n\n紅蛺蝶幼蟲來了，趕快帶同小朋友到 Kidspace Children Museum 買一隻毛毛蟲來領養，並學習紅蛺蝶幼蟲蛻變成蝴蝶的生長經歷！只需要付 $ 5.5 就可以領養一隻毛毛蟲、食物及盒子，現場幫毛毛蟲取名字，還可以獲得一張證書。\n\n如果想要將蛻變成蝴蝶的毛毛蟲放養，可以在 3月31日至 5 月 4日時還可以將蝴蝶帶回 Kidspace，一同參加蝴蝶放生活動。\n\nA quiet delight… brought to memorable life.” – Los Angeles Times\n\nThree beloved stories by Eric Carle\, award-winning children’s book illustrator and author\, are retold on stage through the magic of black light and fanciful puppets. The Very Hungry Caterpillar follows the wonderful adventures of a very tiny and very hungry caterpillar as he eats his way through an amazing variety of foods on his path to becoming a beautiful butterfly. High up in the sky\, Little Cloud playfully transforms himself into various creatures\, including a sheep\, and an airplane\, a shark and more. The Mixed-Up Chameleon is bored with his life\, sitting about predictably changing color all day. Following an adventurous trip to the zoo\, he attempts to emulate the beautiful animals he sees before coming to the conclusion that there is value in his own unique self.\n\nJoin us for FREE pre-show activities before The Very Hungry Caterpillar & Other Eric Carle Favorites\n\nCelebrate the colorful work of Eric Carle with an hour of free activities before performances of The Very Hungry Caterpillar. Create a piece of fruit in the style of Eric Carle along with your own very hungry caterpillar to eat its way through it! Learn more about the butterflies and animals you will see in the show with our friends from the Environmental Nature Center (Saturday) and Santa Ana Zoo (Sunday) and then pose in front of our special butterfly photo op. Inch or fly your way over to the Samueli Theater lobby early to enjoy all of the fun.\n\nWe look forward to seeing you!
URL:http://www.lajajakids.com/event/%e6%94%b6%e9%a4%8a%e6%af%9b%e6%af%9b%e8%9f%b2%e8%9d%b4%e8%9d%b6%e5%ad%a3/
LOCATION:600 Town Center Drive\, Costa Mesa\, CA\, 92626\, United States
GEO:33.6925689;-117.8822898
X-APPLE-STRUCTURED-LOCATION;VALUE=URI;X-ADDRESS=600 Town Center Drive Costa Mesa CA 92626 United States;X-APPLE-RADIUS=500;X-TITLE=600 Town Center Drive:geo:-117.8822898,33.6925689
CATEGORIES:Pink,Red,精選推介
ATTACH;FMTTYPE=image/jpeg:http://www.lajajakids.com/wp-content/uploads/2018/03/HungryCaterpillar1819_615x400.jpg
END:VEVENT
BEGIN:VEVENT
DTSTART;VALUE=DATE:20190309
DTEND;VALUE=DATE:20190310
DTSTAMP:20260423T053817
CREATED:20180601T153307Z
LAST-MODIFIED:20190308T150428Z
UID:60473-1552089600-1552262399@www.lajajakids.com
SUMMARY:粉紅豬小妹與面具俠見面會
DESCRIPTION:粉紅豬小妹與面具俠見面會在洛杉磯動物公園與小朋友們見面拍照留念\nReserve a date and time to meet and take a photo with one of these cute characters at the L.A. Zoo!\n\n\tPJ Masks: Saturday\, March 2\, and Sunday\, March 3\nPeppa Pig: Saturday\, March 9\, and Sunday\, March 10\n\tYour reservation is free\, and does not include Zoo admission. Purchase single-day admission tickets or an annual membership at www.LAZoo.org. Admission tickets or valid membership are required for entry into the Los Angeles Zoo.To ensure optimal guest experience for this high-demand meet-and-greet activity\, reservations are required; one reservation per family group (up to six people). Limit one reservation per family.Plan to arrive at the L.A. Zoo at least one hour prior to your reservation start time. Please allow extra time for traffic delays\, parking\, and admission purchase. Preferred Zoo parking is available for an additional cost (cash only).This is a rain or shine event. No refunds on admission tickets. Event date\, time and location subject to change.ADVANCE ONLINE RESERVATION REQUIRED. RESERVATION DOES NOT INCLUDE ZOO ADMISSION.\n
URL:http://www.lajajakids.com/event/%e7%b2%89%e7%b4%85%e8%b1%ac%e5%b0%8f%e5%a6%b9%e8%88%87%e9%9d%a2%e5%85%b7%e4%bf%a0%e8%a6%8b%e9%9d%a2%e6%9c%83/
LOCATION:5333 Zoo Dr\, Los Angeles\, CA\, 90027\, United States
GEO:34.1490401;-118.2840485
X-APPLE-STRUCTURED-LOCATION;VALUE=URI;X-ADDRESS=5333 Zoo Dr Los Angeles CA 90027 United States;X-APPLE-RADIUS=500;X-TITLE=5333 Zoo Dr:geo:-118.2840485,34.1490401
CATEGORIES:Red,精選推介
ATTACH;FMTTYPE=image/jpeg:http://www.lajajakids.com/wp-content/uploads/2018/06/082712360-4ec711d4-db21-4bc0-be66-87792f0254b5.jpg
END:VEVENT
BEGIN:VEVENT
DTSTART;VALUE=DATE:20190309
DTEND;VALUE=DATE:20190310
DTSTAMP:20260423T053817
CREATED:20181228T154419Z
LAST-MODIFIED:20190308T150010Z
UID:65756-1552089600-1552262399@www.lajajakids.com
SUMMARY:Dana Wharf 節日快樂
DESCRIPTION:\n\n\nFestival of Whales\nJoin Dana Point Harbor for Festival of Whales! The annual family-friendly event celebrates the spring migration of gray whales with a parade\, concerts\, children’s activities\, car shows\, art shows\, educational opportunities\, food and fun in the harbor.\n\nwww.festivalofwhales.com\n\n\n\n\n\n\n\n\n\n\nFourth of July Fireworks Extravaganza\nGather friends and family for the annual Fourth of July Fireworks Extravaganza and enjoy a spectacular firework display that lights up the harbor.\n\n\n\n\n\n\n\n\n\nTall Ships Festival\nCelebrate California’s rich maritime history during the Ocean Institute’s annual Tall Ships Festival. Each September\, a fleet of historic tall ships sail into Dana Point Harbor and history comes alive with historical re-enactors\, cannon battles\, pirate adventures\, mermaid encounters\, ship tours\, and much more.\nwww.tallshipsfestival.com\n\n \n\n\n\n\n\n\n\nTurkey Trot\nEach Thanksgiving Day\, the Turkey Trot returns to beautiful Dana Point Harbor where participants wobble before they gobble! The panoramic and scenic race features a 10k\, 5k and Kids Gobble Wobble and gives participants an excuse to each that extra slice of pie!\nwww.turkeytrot.com\n\n\n\n\n\n\n\n\n\nHoliday Boat Parade\n\nFriday\, Dec 7 and Saturday Dec 8 – 7:30pm\nFriday\, Dec 14 and Saturday Dec 15 – 7:30pm\n4:30pm-7:30pm – Family Fun Festivities at Mariner’s Village/Alley and Dana Wharf\n\nBoaters from all around Orange County decorate their boats and vie for the awards of Judges Choice\, Best Theme\, Best Use of Lights\, Best Animation\, Most Colorful\, Most Original\, Best Sailboat\, Best Powerboat and the Perpetual Trophy for the Yacht Club with the Most Entries. They light up the evening with their amazing boats as they parade throughout the Harbor.\n\nIn celebration of our 44 years of lighting the holiday season up\, this year’s theme will power up with “A WESTERN WONDERLAND”. Join us as boats parade into the Harbor showing off their country western themed decorations\, animation\, color and lights. We can’t wait to see what these creative boaters will come up with. We invite you to come down and be a part of our Western Wonderland!\n\nYou can view the parade FREE from anywhere in the Harbor\, or make reservations at one of our restaurants to view it from a cozy and warm spot. Come on down and enjoy the sights and sounds of the season.\n\nDana Point Harbor is at 34555 Golden Lantern\, Dana Point\, CA. Additional parking is available for a fee at Doheny State Beach and you can jump on the FREE Trolley for a ride to the festivities (3:30pm-10:30pm). For more information visit http://danapointharbor.com/boat-parade/.\n\n\n\n \n\n\n
URL:http://www.lajajakids.com/event/dana-wharf-%e7%af%80%e6%97%a5%e5%bf%ab%e6%a8%82/
LOCATION:34675 Golden Lantern\, Dana Point\, CA\, United States
CATEGORIES:Red,精選推介
ATTACH;FMTTYPE=image/jpeg:http://www.lajajakids.com/wp-content/uploads/2018/12/nzfeg6-b88587317z.120151215165017000g93do42d.10.jpg
END:VEVENT
BEGIN:VEVENT
DTSTART;VALUE=DATE:20190309
DTEND;VALUE=DATE:20190310
DTSTAMP:20260423T053817
CREATED:20190308T160601Z
LAST-MODIFIED:20190308T160601Z
UID:66760-1552089600-1552262399@www.lajajakids.com
SUMMARY:神奇隊長
DESCRIPTION:See costumes from the movie! Join us for 90’s Nites: Thursday nights at 7:00pm (March 14 & 21) Ticket holders attending Marvel Studios’ Captain Marvel at El Capitan Theatre may receive a limited-edition Captain Marvel themed embroidered patch\, while supplies last. Starting on March 7th at the Captain Marvel Fan Event and continuing throughout the run of the movie\, ticketed guests may receive the patch when they attend the movie. Modeled after a patch worn on her military uniform\, fans can only receive this one-of-a-kind patch at El Capitan Theatre.
URL:http://www.lajajakids.com/event/%e7%a5%9e%e5%a5%87%e9%9a%8a%e9%95%b7/
LOCATION:6838 Hollywood Blvd\, Hollywood\, CA\, 90028\, United States
GEO:34.10111;-118.339822
X-APPLE-STRUCTURED-LOCATION;VALUE=URI;X-ADDRESS=6838 Hollywood Blvd Hollywood CA 90028 United States;X-APPLE-RADIUS=500;X-TITLE=6838 Hollywood Blvd:geo:-118.339822,34.10111
CATEGORIES:Red,精選推介
ATTACH;FMTTYPE=image/jpeg:http://www.lajajakids.com/wp-content/uploads/2019/03/h-HO00000123.jpg
END:VEVENT
BEGIN:VEVENT
DTSTART;VALUE=DATE:20190310
DTEND;VALUE=DATE:20190310
DTSTAMP:20260423T053817
CREATED:20170706T230506Z
LAST-MODIFIED:20190310T025814Z
UID:45835-1552176000-1552262399@www.lajajakids.com
SUMMARY:學習傳統民俗工藝
DESCRIPTION:The Craft & Folk Art Museum offers a variety of workshops and classes\, art talks\, readings\, and participatory projects for all ages. View our chronological list of events.\n\nOne-day Art Tour of Tijuana in conjunction with our PST exhibition The US-Mexico Border: Place\, Imagination\, Possibility. Led by independent curator Karla Aguiniga\, the trip will leave from San Diego and includes travel to Valle de Guadalupe\, an emerging vineyard and culinary marvel for a tour and lunch with architect Alejandro D'Acosta. Our participants will also visit and discuss the site of the controversial border wall\, meet special guests and enjoy an artist studio tour.\n\nFebruary 10: Marvelous Marbling!\nMarch 10: Ancient Gardens
URL:http://www.lajajakids.com/event/%e5%ad%b8%e7%bf%92%e5%82%b3%e7%b5%b1%e6%b0%91%e4%bf%97%e5%b7%a5%e8%97%9d/
LOCATION:5814 Wilshire Boulevard\, Los Angeles\, CA\, 90036\, United States
GEO:34.0621895;-118.355588
X-APPLE-STRUCTURED-LOCATION;VALUE=URI;X-ADDRESS=5814 Wilshire Boulevard Los Angeles CA 90036 United States;X-APPLE-RADIUS=500;X-TITLE=5814 Wilshire Boulevard:geo:-118.355588,34.0621895
CATEGORIES:Red,精選推介
ATTACH;FMTTYPE=image/jpeg:http://www.lajajakids.com/wp-content/uploads/2017/07/lowresb_orig.jpg
END:VEVENT
BEGIN:VEVENT
DTSTART;VALUE=DATE:20190310
DTEND;VALUE=DATE:20190310
DTSTAMP:20260423T053817
CREATED:20171104T061643Z
LAST-MODIFIED:20190308T201133Z
UID:53896-1552176000-1552262399@www.lajajakids.com
SUMMARY:夏令時結束時刻
DESCRIPTION:The original Java applet time.gov site has been replaced with HTML5\, cross-platform-compatible code requiring no plugins.\nThis public service is cooperatively provided by the two time agencies of the United States: a Department of Commerce agency\, the National Institute of Standards and Technology (NIST)\, and the U. S. Naval Observatory (USNO). Readings from the clocks of these agencies contribute to world time\, called Coordinated Universal Time (UTC). The time maintained by both agencies should never differ by more than 0.000 0001 seconds from UTC
URL:http://www.lajajakids.com/event/%e5%a4%8f%e4%bb%a4%e6%99%82%e7%b5%90%e6%9d%9f%e6%99%82%e5%88%bb/
CATEGORIES:Red,精選推介
ATTACH;FMTTYPE=image/jpeg:http://www.lajajakids.com/wp-content/uploads/2017/11/150308_gma_full.jpg
END:VEVENT
BEGIN:VEVENT
DTSTART;VALUE=DATE:20190310
DTEND;VALUE=DATE:20190310
DTSTAMP:20260423T053817
CREATED:20171110T083741Z
LAST-MODIFIED:20190308T225401Z
UID:54098-1552176000-1552262399@www.lajajakids.com
SUMMARY:孤獨症家庭關愛夜
DESCRIPTION:The entire Aquarium\, except Lorikeet Forest\, will be open until 9:00 p.m. This will be an evening when guests can enjoy the tranquility of our exhibits and meet 11\,000 animals from the world’s largest ocean. Admission is just $7 per person. Members and children under 3 are free. The Aquarium closes to the public at 6:00 p.m.\nJoin us for a special evening at the Aquarium exclusively for families with adults or children with autism.\nThe entire Aquarium\, except Lorikeet Forest\, will be open until 9:00 p.m. This will be an evening when guests can enjoy the tranquility of our exhibits and meet 11\,000 animals from the world’s largest ocean. Admission is just $7 per person. Members and children under 3 are free. The Aquarium closes to the public at 6:00 p.m.
URL:http://www.lajajakids.com/event/%e5%ad%a4%e7%8d%a8%e7%97%87%e5%ae%b6%e5%ba%ad%e9%97%9c%e6%84%9b%e5%a4%9c/2019-03-10/
LOCATION:100 Aquarium Way\, Long Beach\, CA\, 90802\, United States
GEO:33.7621452;-118.1969144
X-APPLE-STRUCTURED-LOCATION;VALUE=URI;X-ADDRESS=100 Aquarium Way Long Beach CA 90802 United States;X-APPLE-RADIUS=500;X-TITLE=100 Aquarium Way:geo:-118.1969144,33.7621452
CATEGORIES:Red,精選推介
ATTACH;FMTTYPE=image/jpeg:http://www.lajajakids.com/wp-content/uploads/2017/11/694681240-1.jpg
END:VEVENT
BEGIN:VEVENT
DTSTART;VALUE=DATE:20190310
DTEND;VALUE=DATE:20190310
DTSTAMP:20260423T053817
CREATED:20180310T004154Z
LAST-MODIFIED:20190308T215520Z
UID:57511-1552176000-1552262399@www.lajajakids.com
SUMMARY:45屆風箏佳節
DESCRIPTION:The Redondo Pier Association is committed to providing FREE community events throughout the year including one of Southern California's longest-running kite festivals\, summer concert series\, chalk art festival\, classic car show\, holiday concert and monthly yoga meet-ups!\nSee Past Event Photo Galleries and Video Galleries.
URL:http://www.lajajakids.com/event/44%e5%b1%86%e9%a2%a8%e7%ae%8f%e4%bd%b3%e7%af%80/
LOCATION:100 Fisherman’s Wharf\, Redondo Beach\, CA\, 90277\, United States
GEO:33.8390803;-118.3909962
X-APPLE-STRUCTURED-LOCATION;VALUE=URI;X-ADDRESS=100 Fisherman’s Wharf Redondo Beach CA 90277 United States;X-APPLE-RADIUS=500;X-TITLE=100 Fisherman’s Wharf:geo:-118.3909962,33.8390803
CATEGORIES:Red,精選推介
ATTACH;FMTTYPE=image/jpeg:http://www.lajajakids.com/wp-content/uploads/2018/03/image-1-for-wirral-international-kite-festival-gallery-895902826.jpg
END:VEVENT
BEGIN:VEVENT
DTSTART;VALUE=DATE:20190310
DTEND;VALUE=DATE:20190310
DTSTAMP:20260423T053817
CREATED:20190308T215958Z
LAST-MODIFIED:20190308T215958Z
UID:66790-1552176000-1552262399@www.lajajakids.com
SUMMARY:迪士尼現場交響樂
DESCRIPTION:Share with your family the early days of Disney animation as it vividly comes to life through the magic of a live orchestra. CSUN Symphony accompanies some of Disney’s best-loved originals on our big screen\, including The Skeleton Dance (1929)\, The Ugly Duckling (1939)\, and Three Little Pigs (1933). Disney is thought to have created his 75 Silly Symphony shorts as a showcase for his studio’s talented animators and composers as they prepared for the creation of their first full-length animated feature in 1937\, Snow White and the Seven Dwarfs.
URL:http://www.lajajakids.com/event/%e8%bf%aa%e5%a3%ab%e5%b0%bc%e7%8f%be%e5%a0%b4%e4%ba%a4%e9%9f%bf%e6%a8%82/
LOCATION:18111 Nordhoff Street\, Northridge
GEO:34.237378;-118.5281711
X-APPLE-STRUCTURED-LOCATION;VALUE=URI;X-ADDRESS=18111 Nordhoff Street Northridge;X-APPLE-RADIUS=500;X-TITLE=18111 Nordhoff Street:geo:-118.5281711,34.237378
CATEGORIES:Red,精選推介
ATTACH;FMTTYPE=image/jpeg:http://www.lajajakids.com/wp-content/uploads/2019/03/820x370-SillySymphony.jpg
END:VEVENT
BEGIN:VEVENT
DTSTART;VALUE=DATE:20190310
DTEND;VALUE=DATE:20190310
DTSTAMP:20260423T053817
CREATED:20190308T231457Z
LAST-MODIFIED:20190310T025029Z
UID:66797-1552176000-1552262399@www.lajajakids.com
SUMMARY:Gustafer音樂會
DESCRIPTION:\n\n\n\n\nMcCabe's® is a musical instrument store and concert venue in Santa Monica\, opened in 1958. We specialize in acoustic and folk instruments: guitars\, ukuleles\, banjos\, mandolins\, dulcimers (both hammered and plucked)\, fiddles\, bouzoukis\, sitars\, ouds\, ethnic percussion... you get the idea. We also carry electric guitars\, basses\, and amps.\n\n\n\n\n\n\n\n\nCome by if you're in the area — browsers and itinerant musicians welcome. And if you can't come see us in person\, check out our online store (open 24 hours!) where you'll find concert tickets\, group classes\, our world-famous* t-shirts\, and a small sampling of our many\, many instruments and accessories (with more being added all the time).\n\n\n
URL:http://www.lajajakids.com/event/eng-gustafer-yellowgold/
LOCATION:3101 Pico Blvd.\, Santa Monica\, CA\, United States
CATEGORIES:Red,精選推介
ATTACH;FMTTYPE=image/jpeg:http://www.lajajakids.com/wp-content/uploads/2019/03/Gustafer-1.jpg
END:VEVENT
END:VCALENDAR