BEGIN:VCALENDAR
VERSION:2.0
PRODID:-//La JaJa - ECPv4.3.4.1//NONSGML v1.0//EN
CALSCALE:GREGORIAN
METHOD:PUBLISH
X-WR-CALNAME:La JaJa
X-ORIGINAL-URL:http://www.lajajakids.com
X-WR-CALDESC:Events for La JaJa
BEGIN:VEVENT
DTSTART;TZID=America/Los_Angeles:20180609T113000
DTEND;TZID=America/Los_Angeles:20180609T170000
DTSTAMP:20260420T024045
CREATED:20180608T072231Z
LAST-MODIFIED:20180608T072231Z
UID:60718-1528543800-1528563600@www.lajajakids.com
SUMMARY:TAIKOPROJECT 表演
DESCRIPTION:Santa Monica 圖書館，本周六邀請到 TAIKOPROJECT 表演。表演結束將可以現場動手做藝術品。\n\n
URL:http://www.lajajakids.com/event/taikoproject-%e8%a1%a8%e6%bc%94/
LOCATION:601 Santa Monica Blvd.\, Santa Monica\, CA\, 90401\, United States
GEO:34.0185305;-118.4933592
X-APPLE-STRUCTURED-LOCATION;VALUE=URI;X-ADDRESS=601 Santa Monica Blvd. Santa Monica CA 90401 United States;X-APPLE-RADIUS=500;X-TITLE=601 Santa Monica Blvd.:geo:-118.4933592,34.0185305
CATEGORIES:Sky
ATTACH;FMTTYPE=image/jpeg:http://www.lajajakids.com/wp-content/uploads/2018/06/ml_-_taikoproject1_0.jpg
END:VEVENT
END:VCALENDAR