BEGIN:VCALENDAR
VERSION:2.0
PRODID:-//La JaJa - ECPv4.3.4.1//NONSGML v1.0//EN
CALSCALE:GREGORIAN
METHOD:PUBLISH
X-WR-CALNAME:La JaJa
X-ORIGINAL-URL:http://www.lajajakids.com
X-WR-CALDESC:Events for La JaJa
BEGIN:VEVENT
DTSTART;TZID=America/Los_Angeles:20180414T100000
DTEND;TZID=America/Los_Angeles:20180414T160000
DTSTAMP:20260424T144759
CREATED:20180413T013704Z
LAST-MODIFIED:20180413T013704Z
UID:58632-1523700000-1523721600@www.lajajakids.com
SUMMARY:Otis 風箏節
DESCRIPTION:帶上你自己的風箏，一起到 Santa Monica海邊，五顏六色的風箏齊放，一起完成天空畫廊！活動也為兒童提供一個風箏製作講習包含科學原理、技術、工程、藝術原則，將飛行，風力。
URL:http://www.lajajakids.com/event/otis-%e9%a2%a8%e7%ae%8f%e7%af%80/
LOCATION:200 Santa Monica Pier A\, Santa Monica\, CA\,  90401\, United States
GEO:34.0096676;-118.4966444
X-APPLE-STRUCTURED-LOCATION;VALUE=URI;X-ADDRESS=200 Santa Monica Pier A Santa Monica CA  90401 United States;X-APPLE-RADIUS=500;X-TITLE=200 Santa Monica Pier A:geo:-118.4966444,34.0096676
CATEGORIES:Sky
ATTACH;FMTTYPE=image/png:http://www.lajajakids.com/wp-content/uploads/2018/04/otis_kite.png
END:VEVENT
END:VCALENDAR