BEGIN:VCALENDAR
VERSION:2.0
PRODID:-//La JaJa - ECPv4.3.4.1//NONSGML v1.0//EN
CALSCALE:GREGORIAN
METHOD:PUBLISH
X-WR-CALNAME:La JaJa
X-ORIGINAL-URL:http://www.lajajakids.com/en
X-WR-CALDESC:Events for La JaJa
BEGIN:VEVENT
DTSTART;VALUE=DATE:20190427
DTEND;VALUE=DATE:20190427
DTSTAMP:20260425T000150
CREATED:20180428T033601Z
LAST-MODIFIED:20190426T140921Z
UID:59171-1556323200-1556409599@www.lajajakids.com
SUMMARY:OC STEAM Fest
DESCRIPTION:On Saturday\, April 27\, 2019\, IPSF will host the OC STEAM Fest at the Orange County Great Park in Irvine. The STEAM Fest is a fun-filled day for students and families to explore exciting\, hands-on activities related to Science\, Technology\, Engineering\, Arts\, and Mathematics. Enjoy a fun-filled day of games and activities related to STEAM including Dino Encounters\, LEGO® engineering\, spin art\, and newly added Esports zone sponsored by Kingston Technology! This event will take place from 2:00 p.m. – 7:00 p.m. Presale tickets online are $10 for children 4 -17\, children 3 and under and adults 18+ are FREE! Tickets will be $15 at the door.\n\nWith participation from corporate\, community\, and educational partners\, the purpose of the event is to spark student interest in STEAM-related fields and careers while uniting the community in support of education.\n\nPresales ticket sales for the OC STEAM Fest are now closed. Tickets will be available to purchase at the door for $15. We look forward to seeing you there!  
URL:http://www.lajajakids.com/en/event/oc%e7%a7%91%e5%ad%b8%e6%96%b0%e4%b8%96%e7%95%8c/
LOCATION:6990 Marine Way\,\, Irvine\, CA\, 92618\, United States
GEO:33.6731428;-117.751158
X-APPLE-STRUCTURED-LOCATION;VALUE=URI;X-ADDRESS=6990 Marine Way Irvine CA 92618 United States;X-APPLE-RADIUS=500;X-TITLE=6990 Marine Way\,:geo:-117.751158,33.6731428
CATEGORIES:Red,JaJa’s Picks
ATTACH;FMTTYPE=image/jpeg:http://www.lajajakids.com/wp-content/uploads/2018/04/IPSF-STEAM-Carnival-20175-780x490.jpg
END:VEVENT
END:VCALENDAR