BEGIN:VCALENDAR
VERSION:2.0
PRODID:-//La JaJa - ECPv4.3.4.1//NONSGML v1.0//EN
CALSCALE:GREGORIAN
METHOD:PUBLISH
X-WR-CALNAME:La JaJa
X-ORIGINAL-URL:http://www.lajajakids.com
X-WR-CALDESC:Events for La JaJa
BEGIN:VEVENT
DTSTART;VALUE=DATE:20171029
DTEND;VALUE=DATE:20171030
DTSTAMP:20260423T202334
CREATED:20170406T154033Z
LAST-MODIFIED:20171028T173245Z
UID:13283-1509235200-1509407999@www.lajajakids.com
SUMMARY:曼克頓灘南瓜車慈善大賽
DESCRIPTION:Noon - 5:00pm\n\n一輛輛由小朋友親自設計和製作的南瓜車，將沿著曼克頓灘海邊的斜坡俯衝而下，哪幾個可以絲毫無損地完成賽事？其實，賽果已經不重要，最要緊的是小朋友既能吸收科學知識，又可以開心度過一個難忘的下午（當然還有優美的海景大奉送！）\n\n\n\nSchedule of Events\n======================\n12:00 PM to 4:00 PM Open Qualifying Races\n2:30 PM to 2:45 PM Pumpkin Race Hall of Fame Induction Ceremony\n3:00 PM to 4:00 PM Kids Costume Parade\n4:00 PM to 6:00 PM Pumpkin Race Finals\n\nWhether you race for the pure fun of it\, or to support a loved one\, the World Famous Manhattan Beach Pumpkin Race is a thrilling\, family-friendly experience that will rekindle your childhood delight. Enjoy heart racing thrills and jump for joy in your fun-spirited quest for the Championship trophy and team awards including Best Design\, Worst Crash\, Most Adorable\, Top Fundraisers\, and more!\n\n\n\n\n\nNow in our 27th year\, the Manhattan Beach Pumpkin Race is a national award-winning festival experience that celebrates creativity\, ingenuity\, diversity\, and fair play. Open to the public. Free to attend.\n\nJoin us this year for the inaugural Pumpkin Race to Make Autism Work in the South Bay fundraiser for the MBUSD CHOICE Booster Club (MBX Foundation Inc TAX ID:#02-0603467).\n\nhttps://www.youtube.com/watch?v=DxPof_Sd2CA
URL:http://www.lajajakids.com/event/manhattan-beach-pumpkin-race/
LOCATION:Manhattan Beach\,\, CA\, United States
GEO:33.8847361;-118.4109089
X-APPLE-STRUCTURED-LOCATION;VALUE=URI;X-ADDRESS=Manhattan Beach CA United States;X-APPLE-RADIUS=500;X-TITLE=Manhattan Beach\,:geo:-118.4109089,33.8847361
CATEGORIES:Purple
ATTACH;FMTTYPE=image/jpeg:http://www.lajajakids.com/wp-content/uploads/2017/04/mb-pumpkin-race.jpg
END:VEVENT
END:VCALENDAR