BEGIN:VCALENDAR
VERSION:2.0
PRODID:-//La JaJa - ECPv4.3.4.1//NONSGML v1.0//EN
CALSCALE:GREGORIAN
METHOD:PUBLISH
X-WR-CALNAME:La JaJa
X-ORIGINAL-URL:http://www.lajajakids.com
X-WR-CALDESC:Events for La JaJa
BEGIN:VEVENT
DTSTART;VALUE=DATE:20170901
DTEND;VALUE=DATE:20170924
DTSTAMP:20260420T103309
CREATED:20170901T051320Z
LAST-MODIFIED:20170906T065600Z
UID:51034-1504224000-1506297599@www.lajajakids.com
SUMMARY:洛杉磯縣嘉年華
DESCRIPTION:LA County Fair 是全北美最大的 county fair，早於1922年開始就在加州的 Pomona 舉辦，是每年初秋南加最大的全民活動，吸引超過百萬人來參加，現場商戶超過 600家，遊戲展覽超過百種，當然還有精彩表演和大家最愛的美食，可以說是體驗美式生活文化必去之地！曾多聞\n\n每年 LA County Fair 除了既有的娛樂活動外，都會增設好幾個新穎主題，吸引更多參觀人潮，今年新增的看點包括：The Taylor Swift Experience 主題館、虛擬現實電玩遊戲區(Esports Gaming World，限 9/8 - 9/10 三天舉行)；再加上每年都有的受歡迎活動，例如：美食攤位、現場歌舞表演、趣味競賽和遊戲、大型遊樂設施、主題派對、農業和動物展覽等，都是讓一家大小開心玩上一整天的好玩活動。\n\nSince its inception\, the Fair has been the link between California’s agriculture industry and the public\, providing a community gathering place where people learn about California’s heritage and enjoy traditional Fair food\, activities and entertainment. In recent years the fair has moved away from such agricultural heritage by abandoning livestock competitions for area growers and ranchers in favor of hired petting zoos.\n\nCLOSED Mondays and Tuesdays\n\nLA County Fair Hours:\n\nWednesdays: noon-10pm\nThursdays: noon-11pm\nFridays: noon-midnight\nSaturdays: 10am-midnight\nSundays: 10am-10pm
URL:http://www.lajajakids.com/event/lacountyfair/
LOCATION:1101 W. McKinley Ave.\, Pomona\, CA\, 91768\, United States
GEO:34.0809612;-117.7651993
X-APPLE-STRUCTURED-LOCATION;VALUE=URI;X-ADDRESS=1101 W. McKinley Ave. Pomona CA 91768 United States;X-APPLE-RADIUS=500;X-TITLE=1101 W. McKinley Ave.:geo:-117.7651993,34.0809612
CATEGORIES:Red,精選推介
ATTACH;FMTTYPE=image/jpeg:http://www.lajajakids.com/wp-content/uploads/2017/08/L.A._County_Fair_1261.jpg
END:VEVENT
END:VCALENDAR