BEGIN:VCALENDAR
VERSION:2.0
PRODID:-//La JaJa - ECPv4.3.4.1//NONSGML v1.0//EN
CALSCALE:GREGORIAN
METHOD:PUBLISH
X-WR-CALNAME:La JaJa
X-ORIGINAL-URL:http://www.lajajakids.com
X-WR-CALDESC:Events for La JaJa
BEGIN:VEVENT
DTSTART;VALUE=DATE:20180608
DTEND;VALUE=DATE:20180618
DTSTAMP:20260419T164256
CREATED:20180510T175408Z
LAST-MODIFIED:20180609T040352Z
UID:59711-1528416000-1529366399@www.lajajakids.com
SUMMARY:日本美食節
DESCRIPTION:\n\n一年一度的日本美食約會又到了\, 今年有 美味的和牛便當、最適合夏日品嚐到鰻魚飯便當、各式著名日式甜點等等，還有不少專程由日本運來的美味食品\n\nThe annual Mitsuwa Japanese Gourmet Food Fair is ready to kick off in June! Be prepared to enjoy “UMAI!” (Delicious!) specialty food from all over Japan as they debut in this event! Taking place from June 8th to June 18th at Mitsuwa Marketplace in Torrance\, Costa Mesa and San Diego\, the two-week food fair features a variety of food vendors from Japan.\n\nTorrance Store: 6/8 (Thu) - 6/12 (Mon) The most exciting dish will be the Wagyu Bento Box from Kagoshima. Luxurious and exquisite\, tender wagyu with flavorful sauce will bring you the authentic taste of Japan.\n\nAnother delicious dish is the eel bento from Kochi. Eel is known for its tasty flavor and for be-ing rich in nutrition. This sweet and savory eel bento can boost your energy and satisfy your taste buds.\n\nThere will also be traditional Japanese sweets from Ishikawa . These sweets are well bal-anced and beautifully crafted\, are perfect for tea and make great gifts.\n\nDon’t forget to try our new honey from Kumamonto . Their handcraft honey is purely matured and flavored with different fruit juice.\n\n \n\n 
URL:http://www.lajajakids.com/event/japanese-gourmet-fair-2/
LOCATION:21515 S Western Ave\, Torrance\, CA\, 90501\, United States
GEO:33.8334388;-118.3099721
X-APPLE-STRUCTURED-LOCATION;VALUE=URI;X-ADDRESS=21515 S Western Ave Torrance CA 90501 United States;X-APPLE-RADIUS=500;X-TITLE=21515 S Western Ave:geo:-118.3099721,33.8334388
CATEGORIES:Sky,精選推介
ATTACH;FMTTYPE=image/jpeg:http://www.lajajakids.com/wp-content/uploads/2018/05/73f24014-37df-4c6f-8c72-5c76995b6d75.jpg
END:VEVENT
END:VCALENDAR