BEGIN:VCALENDAR
VERSION:2.0
PRODID:-//La JaJa - ECPv4.3.4.1//NONSGML v1.0//EN
CALSCALE:GREGORIAN
METHOD:PUBLISH
X-WR-CALNAME:La JaJa
X-ORIGINAL-URL:http://www.lajajakids.com
X-WR-CALDESC:Events for La JaJa
BEGIN:VEVENT
DTSTART;TZID=America/Los_Angeles:20180610T090000
DTEND;TZID=America/Los_Angeles:20180610T170000
DTSTAMP:20260419T172759
CREATED:20180608T074216Z
LAST-MODIFIED:20180608T074216Z
UID:60733-1528621200-1528650000@www.lajajakids.com
SUMMARY:Griffith Park 家庭日
DESCRIPTION:SoCalMoms 本周日將在Griffith Park舉辦家庭日，現場包含音樂( Beat Buds\, Jazzy Ash\,Love Bug & Me and Luce Puppet Company)、藝術手作、遊戲區、故事時間、泡泡氣球嘉年華及孩子們喜歡的卡通明星見面。\n\n\n\n現場購票 $10 * 提前購票將可獲得 $ 5 優惠。
URL:http://www.lajajakids.com/event/griffith-park-%e5%ae%b6%e5%ba%ad%e6%97%a5/
LOCATION:4700 Western Heritage Way\, Los Angeles\,\, CA\, 90027-1462\, United States
CATEGORIES:Sky
ATTACH;FMTTYPE=image/jpeg:http://www.lajajakids.com/wp-content/uploads/2018/06/family_play_day_1.jpg
END:VEVENT
END:VCALENDAR