BEGIN:VCALENDAR
VERSION:2.0
PRODID:-//La JaJa - ECPv4.3.4.1//NONSGML v1.0//EN
CALSCALE:GREGORIAN
METHOD:PUBLISH
X-WR-CALNAME:La JaJa
X-ORIGINAL-URL:http://www.lajajakids.com/en
X-WR-CALDESC:Events for La JaJa
BEGIN:VEVENT
DTSTART;VALUE=DATE:20190330
DTEND;VALUE=DATE:20190330
DTSTAMP:20260420T160216
CREATED:20190328T091624Z
LAST-MODIFIED:20190328T094539Z
UID:67032-1553904000-1553990399@www.lajajakids.com
SUMMARY:Family Storytime featuring "We are the Gardeners"
DESCRIPTION:\n\nSaturday March 30\, 2019 11:00 AM\n\nFamous HGTV show Fixer Upper star Joanna Gaines has many fans\, now she has one more role -- children's book writer. Her new children's book\, We are the Gardeners\, chronicles the adventures of starting a family garden. Trying something new isn't always easy\, but the hardest work often yields the greatest reward.\n\nThis Saturday\, you can visit a Barnes and Noble bookstore for a special storytime book event under the theme of her new book\, together with fun children's activities and crafts.\n\nWhile you're there for the storytime\, don't forget to get a special coupon from the Café for a grilled cheese sandwich with milk or juice for $4!\n\nAbout the book ~~\n\nIn We Are the Gardeners\, Joanna and the kids chronicle the adventures of starting their own family garden. From their failed endeavors\, obstacles to overcome (bunnies that eat everything!)\, and all the knowledge they've gained along the way\, the Gaines family shares how they learned to grow a happy\, successful garden. As it turns out\, trying something new isn't always easy\, but the hardest work often yields the greatest reward. There are always new lessons to be learned in the garden!\n\nYou and your children can learn all about the Gaines family's story of becoming gardeners in Joanna's first children’s book—starting with the first little fern Chip bought for Jo. Over the years\, the family's love for gardening blossomed into what is now a beautiful\, bustling garden.\n\nsource: amazon.com\n\nhttps://www.youtube.com/watch?v=DNnO1YeYs-o\n\n\n\n
URL:http://www.lajajakids.com/en/event/67032/
CATEGORIES:Green
ATTACH;FMTTYPE=image/jpeg:http://www.lajajakids.com/wp-content/uploads/2019/03/9781400314225_p0_v7_s550x406.jpg
END:VEVENT
END:VCALENDAR