BEGIN:VCALENDAR
VERSION:2.0
PRODID:-//La JaJa - ECPv4.3.4.1//NONSGML v1.0//EN
CALSCALE:GREGORIAN
METHOD:PUBLISH
X-WR-CALNAME:La JaJa
X-ORIGINAL-URL:http://www.lajajakids.com
X-WR-CALDESC:Events for La JaJa
BEGIN:VEVENT
DTSTART;VALUE=DATE:20180630
DTEND;VALUE=DATE:20180630
DTSTAMP:20260421T175627
CREATED:20170615T181355Z
LAST-MODIFIED:20180629T015900Z
UID:43982-1530316800-1530403199@www.lajajakids.com
SUMMARY:諾頓西蒙花園博覽盛會
DESCRIPTION:Celebrate the start of summer with the Museum’s annual Garden Party. Spend an evening exploring the sights and sounds of the Sculpture Garden\, inspired by Monet’s beloved garden at Giverny. Pick up drawing supplies and sketch en plein air or collaborate on creative projects with your fellow art enthusiasts\, such as sculpting and printing works inspired by flora in the garden\, creating a botanical bookmark or working on a collage inspired by the objects on view in Line & Color: The Nature of Ellsworth Kelly. Throughout the evening\, enjoy live jazz in the Garden Café.\nFree with museum admission.\n\nRefreshments available for purchase at the Museum Cafe.\nNo outside food or drink permitted.\n\nLimited complimentary parking is available at the Museum and at the Wells Fargo parking lot\, located directly across the street from the Museum. Parking at the Wells Fargo parking lot is available from 4:00–8:00 p.m.
URL:http://www.lajajakids.com/event/%e8%ab%be%e9%a0%93%e8%a5%bf%e8%92%99%e8%8a%b1%e5%9c%92%e5%8d%9a%e8%a6%bd%e7%9b%9b%e6%9c%83/
LOCATION:411 W. Colorado Boulevard\, Pasadena\, CA\, 91105\, United States
GEO:34.1462414;-118.1592383
X-APPLE-STRUCTURED-LOCATION;VALUE=URI;X-ADDRESS=411 W. Colorado Boulevard Pasadena CA 91105 United States;X-APPLE-RADIUS=500;X-TITLE=411 W. Colorado Boulevard:geo:-118.1592383,34.1462414
CATEGORIES:Red,精選推介
ATTACH;FMTTYPE=image/jpeg:http://www.lajajakids.com/wp-content/uploads/2017/06/CggYHVa4lbSAUWR6AAGajfmhnuw863.jpg
END:VEVENT
END:VCALENDAR