BEGIN:VCALENDAR
VERSION:2.0
PRODID:-//La JaJa - ECPv4.3.4.1//NONSGML v1.0//EN
CALSCALE:GREGORIAN
METHOD:PUBLISH
X-WR-CALNAME:La JaJa
X-ORIGINAL-URL:http://www.lajajakids.com
X-WR-CALDESC:Events for La JaJa
BEGIN:VEVENT
DTSTART;VALUE=DATE:20190317
DTEND;VALUE=DATE:20190317
DTSTAMP:20260425T212134
CREATED:20180317T013021Z
LAST-MODIFIED:20190316T015350Z
UID:57798-1552780800-1552867199@www.lajajakids.com
SUMMARY:蝴蝶展示館
DESCRIPTION:March 18 - September 3\, 2018\nButterflies are taking flight at NHMLA! Get up close to beautiful butterflies in our new Butterfly Pavilion. This seasonal exhibit — located outside on the south side of the Museum — features more flight space\, more resting spots\, and more natural light. There will be hundreds of free-flying butterflies inside\, and our awesome Gallery Interpreters who can explain why these animals are so special.
URL:http://www.lajajakids.com/event/%e8%9d%b4%e8%9d%b6%e5%b1%95%e7%a4%ba%e9%a4%a8/
LOCATION:900 Exposition Boulevard\, Los Angeles\, CA\, 90007\, United States
GEO:34.0170769;-118.2886818
X-APPLE-STRUCTURED-LOCATION;VALUE=URI;X-ADDRESS=900 Exposition Boulevard Los Angeles CA 90007 United States;X-APPLE-RADIUS=500;X-TITLE=900 Exposition Boulevard:geo:-118.2886818,34.0170769
CATEGORIES:Red,精選推介
ATTACH;FMTTYPE=image/jpeg:http://www.lajajakids.com/wp-content/uploads/2018/03/dsc-0151-web.jpg
END:VEVENT
END:VCALENDAR