BEGIN:VCALENDAR
VERSION:2.0
PRODID:-//La JaJa - ECPv4.3.4.1//NONSGML v1.0//EN
CALSCALE:GREGORIAN
METHOD:PUBLISH
X-WR-CALNAME:La JaJa
X-ORIGINAL-URL:http://www.lajajakids.com
X-WR-CALDESC:Events for La JaJa
BEGIN:VEVENT
DTSTART;VALUE=DATE:20190126
DTEND;VALUE=DATE:20190127
DTSTAMP:20260419T225439
CREATED:20180127T015720Z
LAST-MODIFIED:20190125T204244Z
UID:56058-1548460800-1548633599@www.lajajakids.com
SUMMARY:活出新生命
DESCRIPTION:This event will feature wheelchair dance\, live music\, sign language choirs\, art demonstrations\, and accessible SCUBA diving demonstrations. Participate in free classes led by people who have disabilities. Sign language interpreters will be present at all major shows\, and an audio tour and a visitor guide in Braille are available for those who are blind.\nCelebrate the Creative Spirit of People with Disabilities\nJoin the Aquarium of the Pacific for its sixteenth annual Festival of Human Abilities\, a celebration highlighting the creative talents and abilities of people with disabilities.\nThis event will feature wheelchair dance\, live music\, sign language choirs\, art demonstrations\, and accessible SCUBA diving demonstrations. Participate in free classes led by people who have disabilities. Sign language interpreters will be present at all major shows\, and an audio tour and a visitor guide in Braille are available for those who are blind.
URL:http://www.lajajakids.com/event/%e6%b4%bb%e5%87%ba%e6%96%b0%e7%94%9f%e5%91%bd/
LOCATION:100 Aquarium Way\, Long Beach\, CA\, 90802\, United States
GEO:33.7621452;-118.1969144
X-APPLE-STRUCTURED-LOCATION;VALUE=URI;X-ADDRESS=100 Aquarium Way Long Beach CA 90802 United States;X-APPLE-RADIUS=500;X-TITLE=100 Aquarium Way:geo:-118.1969144,33.7621452
CATEGORIES:Red,精選推介
ATTACH;FMTTYPE=image/jpeg:http://www.lajajakids.com/wp-content/uploads/2018/01/FEATURES_160129598_EP_-1_CNYVELKMJDEV.jpg
END:VEVENT
END:VCALENDAR