BEGIN:VCALENDAR
VERSION:2.0
PRODID:-//La JaJa - ECPv4.3.4.1//NONSGML v1.0//EN
CALSCALE:GREGORIAN
METHOD:PUBLISH
X-WR-CALNAME:La JaJa
X-ORIGINAL-URL:http://www.lajajakids.com
X-WR-CALDESC:Events for La JaJa
BEGIN:VEVENT
DTSTART;VALUE=DATE:20180528
DTEND;VALUE=DATE:20180528
DTSTAMP:20260425T175025
CREATED:20180525T195315Z
LAST-MODIFIED:20180525T195315Z
UID:60364-1527465600-1527551999@www.lajajakids.com
SUMMARY:歌唱紀念軍人
DESCRIPTION:用歌聲來紀念軍人，現場的音樂讓大家感受軍人的偉大\n\nAnnual Memorial Day Commemoration Ceremony\n\n11:00 AM: Ceremony in the Pat Nixon Amphitheater\nWreath laying and remarks by Medal of Honor Recipient Hershel "Woody" Williams\, a decorated Marine Corps veteran of the iconic Battle of Iwo Jima. Williams is the last living Marine to receive the nation's highest award for valor from serving in the Pacific Theater during World War II.\n\nFormal Presentation of the Colors and 21-Gun Salute by the 1st Marine Division.\n\n1:00 PM: Lecture and Book Signing\nRetired USMC Infantry Major Scott A. Huesing will speak and sign copies of Echo in Ramadi.\n\n3:30 PM: Placentia Symphonic Band\nThe renowned Placentia Symphonic Band will perform their classic setlist of All-American favorites in the East Room.\nSeating is first-come\, first-served.\n\nAdmission to the Memorial Day programming is free and open to the public. You will need to purchase admission tickets to explore the museum exhibits.
URL:http://www.lajajakids.com/event/%e6%ad%8c%e5%94%b1%e7%b4%80%e5%bf%b5%e8%bb%8d%e4%ba%ba/
LOCATION:18001 Yorba Linda Boulevard\, Yorba Linda\, CA\, 92886\, United States
GEO:33.8894551;-117.8190353
X-APPLE-STRUCTURED-LOCATION;VALUE=URI;X-ADDRESS=18001 Yorba Linda Boulevard Yorba Linda CA 92886 United States;X-APPLE-RADIUS=500;X-TITLE=18001 Yorba Linda Boulevard:geo:-117.8190353,33.8894551
CATEGORIES:Red,精選推介
ATTACH;FMTTYPE=image/jpeg:http://www.lajajakids.com/wp-content/uploads/2018/05/6HIPGEFEXJALJC26BNZY3A36HM.jpg
END:VEVENT
END:VCALENDAR