BEGIN:VCALENDAR
VERSION:2.0
PRODID:-//La JaJa - ECPv4.3.4.1//NONSGML v1.0//EN
CALSCALE:GREGORIAN
METHOD:PUBLISH
X-WR-CALNAME:La JaJa
X-ORIGINAL-URL:http://www.lajajakids.com
X-WR-CALDESC:Events for La JaJa
BEGIN:VEVENT
DTSTART;VALUE=DATE:20190427
DTEND;VALUE=DATE:20190427
DTSTAMP:20260419T220014
CREATED:20180428T034848Z
LAST-MODIFIED:20190426T134942Z
UID:59248-1556323200-1556409599@www.lajajakids.com
SUMMARY:書局派對
DESCRIPTION:這是一個書店的特別派對，有各種歌舞表演和兒童活動\n\nIndependent Bookstore Day is a one-day national party that takes place at indie bookstores across the country on the last Saturday in April.  Every store is unique and independent\, and every party is different. But in addition to authors\, live music\, cupcakes\, scavenger hunts\, kids events\, art tables\, readings\, barbecues\, contests\, and other fun stuff\, there are exclusive books and literary items that you can only get on that day. Not before. Not after. Not online.\n\nTo see past exclusives\, check out our archives.\n\nWhy are we celebrating independent bookstores?\n\nIndependent bookstores are not just stores\, they’re community centers and local anchors run by passionate readers. They are entire universes of ideas that contain the possibility of real serendipity. They are lively performance spaces and quiet places where aimless perusal is a day well spent.\n\nIn a world of tweets and algorithms and pageless digital downloads\, bookstores are not a dying anachronism.  They are living\, breathing organisms that continue to grow and expand. In fact\, there are more of them this year than there were last year. And they are at your service.
URL:http://www.lajajakids.com/event/%e6%9b%b8%e5%b1%80%e6%b4%be%e5%b0%8d/
CATEGORIES:Red,精選推介
ATTACH;FMTTYPE=image/jpeg:http://www.lajajakids.com/wp-content/uploads/2018/04/下载-1.jpg
END:VEVENT
END:VCALENDAR