BEGIN:VCALENDAR
VERSION:2.0
PRODID:-//La JaJa - ECPv4.3.4.1//NONSGML v1.0//EN
CALSCALE:GREGORIAN
METHOD:PUBLISH
X-WR-CALNAME:La JaJa
X-ORIGINAL-URL:http://www.lajajakids.com
X-WR-CALDESC:Events for La JaJa
BEGIN:VEVENT
DTSTART;VALUE=DATE:20180331
DTEND;VALUE=DATE:20180401
DTSTAMP:20260420T042550
CREATED:20180330T005334Z
LAST-MODIFIED:20180330T005334Z
UID:58249-1522454400-1522627199@www.lajajakids.com
SUMMARY:春天豐收季
DESCRIPTION:\n\n\nTanaka Farms在農場慶祝春天來臨，周末將有慶祝復活節的活動，包含與復活節兔子照相、彩繪雞蛋，孩子們可也可以在草地上尋找雞蛋。 現場也提供季節料理及一些創意市集！遊戲包含了沙灘車，Big Digger，Lil Crate Ride，藝術與手工藝，臉部彩繪和植栽。\n 時間：\n\n3 月 31 - 4 月 1 日  10:00 am to 3:00 pm\n\n適合年紀： All ages\n\n票價：入場免費，活動需付費\n\n
URL:http://www.lajajakids.com/event/%e6%98%a5%e5%a4%a9%e8%b1%90%e6%94%b6%e5%ad%a3/
LOCATION:5380 3/4 University Dr.\, Irvine\, CA\, United States
GEO:33.6582138;-117.8019134
X-APPLE-STRUCTURED-LOCATION;VALUE=URI;X-ADDRESS=5380 3/4 University Dr. Irvine CA United States;X-APPLE-RADIUS=500;X-TITLE=5380 3/4 University Dr.:geo:-117.8019134,33.6582138
CATEGORIES:Sky
END:VEVENT
END:VCALENDAR