BEGIN:VCALENDAR
VERSION:2.0
PRODID:-//La JaJa - ECPv4.3.4.1//NONSGML v1.0//EN
CALSCALE:GREGORIAN
METHOD:PUBLISH
X-WR-CALNAME:La JaJa
X-ORIGINAL-URL:http://www.lajajakids.com
X-WR-CALDESC:Events for La JaJa
BEGIN:VEVENT
DTSTART;VALUE=DATE:20181231
DTEND;VALUE=DATE:20181231
DTSTAMP:20260425T190319
CREATED:20171229T021619Z
LAST-MODIFIED:20181228T162542Z
UID:55137-1546214400-1546300799@www.lajajakids.com
SUMMARY:新年中午派對
DESCRIPTION:Monday\, December 31\, 2018\nWE WILL BE OPEN TODAY! The entire family can celebrate the countdown to 12 o’clock NOON with kid-style New Year’s festivities!! Complete with hat making\, face painting\, dancing\, and a balloon drop at noon! Space is limited for the balloon drop so RSVP to (562) 383-4236. Free to CMLH Members!\n\n
URL:http://www.lajajakids.com/event/%e6%96%b0%e5%b9%b4%e4%b8%ad%e5%8d%88%e6%b4%be%e5%b0%8d/
LOCATION:301 South Euclid Street\, La Habra\, CA\, 90631\, United States
GEO:33.9296516;-117.9466619
X-APPLE-STRUCTURED-LOCATION;VALUE=URI;X-ADDRESS=301 South Euclid Street La Habra CA 90631 United States;X-APPLE-RADIUS=500;X-TITLE=301 South Euclid Street:geo:-117.9466619,33.9296516
CATEGORIES:Red,精選推介
ATTACH;FMTTYPE=image/jpeg:http://www.lajajakids.com/wp-content/uploads/2017/12/image.jpg
END:VEVENT
END:VCALENDAR