BEGIN:VCALENDAR
VERSION:2.0
PRODID:-//La JaJa - ECPv4.3.4.1//NONSGML v1.0//EN
CALSCALE:GREGORIAN
METHOD:PUBLISH
X-WR-CALNAME:La JaJa
X-ORIGINAL-URL:http://www.lajajakids.com
X-WR-CALDESC:Events for La JaJa
BEGIN:VEVENT
DTSTART;VALUE=DATE:20180720
DTEND;VALUE=DATE:20180721
DTSTAMP:20260420T011313
CREATED:20190714T063726Z
LAST-MODIFIED:20190720T174437Z
UID:61731-1532044800-1532217599@www.lajajakids.com
SUMMARY:小東京美食+文化節 2019
DESCRIPTION:\n\n\n\n日本美食是大人小朋友都喜愛的，也是日本文化的代表之一。下個週末的小東京美食+文化節就有著各種日本美食活動，有美食文化導賞、日式便當製作教學、印尼美食示範、蛋黃哥卡通、還有與美食有關的攝影、藝術和花藝課，費用非常便宜，很適合家長帶小朋友一起參與。\nGo Little Tokyo for two days of delicious food harvested from the streets of Little Tokyo! Delicious Little Tokyo invites all foodies to experience the vast array of cuisines that the restaurants of Little Tokyo have to offer.\nThe festivities are on Friday (7/19) and Saturday (7/20)\, and feature selected Little Tokyo restaurants offering giveaways\, demonstrations\, hands-on workshops and tastings. Come explore the culinary gems of Little Tokyo with your family and friends!\nRSVP on Facebook: www.facebook.com/golittletokyo\n\nRegistration for our fun\, interactive workshops\, demos\, tours and tastings is now open!\n\n#deliciouslittletokyo #golittletokyo\n\nSubscribe to our mailing list to get the latest information on Delicious Little Tokyo.\n\n\n\nLet Go Little Tokyo be your neighborhood guide! View the Delicious Little Tokyo 2019 Food Guide to explore\, shop\, and eat your way through the streets of Little Tokyo in a whole new way.\n\nPick up a hard copy starting Friday\, July 19th at:\n\n\tBunkado – 340 E 1st St\n\tCafe Demitasse – 135 S San Pedro St\n\tCafe Dulce – 134 Japanese Village Plaza Mall\n\tJapanese American Cultural & Community Center (JACCC) – 244 San Pedro St\n\tJapanese American National Museum (JANM) – 100 N Central Ave\n\tJapanLA – 356 1/2 E 2nd St\n\tJapangeles – 141 Japanese Village Plaza Mall\n\tMiyako Hotel – 328 E 1st St\n\tRafu Bussan – 414 E 2nd St\n\tThe Little Tokyo Koban – 307 E 1st St\n\nClick to Download\n\n\n\n\n\n\n\n
URL:http://www.lajajakids.com/event/%e5%b0%8f%e6%9d%b1%e4%ba%ac%e7%be%8e%e9%a3%9f%e7%af%80/
LOCATION:Central Avenue & San Pedro Street\, Los Angeles\, CA\, 90012\, United States
GEO:34.049451;-118.238789
X-APPLE-STRUCTURED-LOCATION;VALUE=URI;X-ADDRESS=Central Avenue & San Pedro Street Los Angeles CA 90012 United States;X-APPLE-RADIUS=500;X-TITLE=Central Avenue & San Pedro Street:geo:-118.238789,34.049451
CATEGORIES:Green,精選推介
END:VEVENT
END:VCALENDAR