BEGIN:VCALENDAR
VERSION:2.0
PRODID:-//La JaJa - ECPv4.3.4.1//NONSGML v1.0//EN
CALSCALE:GREGORIAN
METHOD:PUBLISH
X-WR-CALNAME:La JaJa
X-ORIGINAL-URL:http://www.lajajakids.com
X-WR-CALDESC:Events for La JaJa
BEGIN:VEVENT
DTSTART;VALUE=DATE:20180428
DTEND;VALUE=DATE:20180428
DTSTAMP:20260422T180413
CREATED:20180428T035434Z
LAST-MODIFIED:20180428T035434Z
UID:59252-1524873600-1524959999@www.lajajakids.com
SUMMARY:地球宣衛活動
DESCRIPTION:歡迎家庭朋友一起參加愛護地球的活動，音樂和各種活動\n\nThis year\, Plaza de la Raza will host our first ever "Earth Week Fest"\, a free\, family-friendly event featuring live music with Gloria Arjona\, The Furious Seasons\, EZ Tiger and DJ Will Alvarez. With comedy by La Tres Chicanas.\n\nThe day will kick off with Luchadores - but there'll be a lot more to see\, do\, and eat! Taco trucks\, face-painting\, Henna artists\, dance\, arts & crafts and tons of info on local and global environmental issues.\n\nThe event will be held from 2-6 PM at Plaza de la Raza on April 28\, 2018.\n\nFrom 6-8PM\, a theatrical performance of "In the Realm of the Maya-The Rising of the Ringball"\, written and directed by Martin Zitter will be held! You won't want to miss it!
URL:http://www.lajajakids.com/event/%e5%9c%b0%e7%90%83%e5%ae%a3%e8%a1%9b%e6%b4%bb%e5%8b%95/
LOCATION:3540 North Mission Road\, Los Angele\, CA\, 90031\, United States
GEO:34.0672034;-118.2034603
X-APPLE-STRUCTURED-LOCATION;VALUE=URI;X-ADDRESS=3540 North Mission Road Los Angele CA 90031 United States;X-APPLE-RADIUS=500;X-TITLE=3540 North Mission Road:geo:-118.2034603,34.0672034
CATEGORIES:Red,精選推介
ATTACH;FMTTYPE=image/jpeg:http://www.lajajakids.com/wp-content/uploads/2018/04/EARTH-300x300.jpg
END:VEVENT
END:VCALENDAR