BEGIN:VCALENDAR
VERSION:2.0
PRODID:-//La JaJa - ECPv4.3.4.1//NONSGML v1.0//EN
CALSCALE:GREGORIAN
METHOD:PUBLISH
X-WR-CALNAME:La JaJa
X-ORIGINAL-URL:http://www.lajajakids.com/en
X-WR-CALDESC:Events for La JaJa
BEGIN:VEVENT
DTSTART;VALUE=DATE:20180428
DTEND;VALUE=DATE:20180428
DTSTAMP:20260421T174414
CREATED:20180428T040306Z
LAST-MODIFIED:20180428T040306Z
UID:59259-1524873600-1524959999@www.lajajakids.com
SUMMARY:Science in the Park
DESCRIPTION:\nOC Parks and the Dr. John D. Cooper Archaeological and Paleontological Center invite you to Science in the Park at Irvine Regional Park. The free\, educational\, family event will present Orange Countyâ€™s rich heritage of natural history\, native animals and plants\, local Native American culture\, and the fascinating world of science to the community.\n\nScience in the Park will be fun for both young and old\, with a number of activities including archaeological and paleontological demonstrations and exhibits\, science experiments\, environmental conservation\, and a Junior Scientist Camp featuring educational crafts and hands-on activities. The event will take place in front of the OC Zoo. Be sure to visit the OC Zoo and take advantage of the various zookeeper chats throughout the day.\n\n 
URL:http://www.lajajakids.com/en/event/%e5%85%ac%e5%9c%92%e7%a7%91%e5%ad%b8%e5%a4%a7%e7%99%bc%e7%8f%be/
LOCATION:1 Irvine Park Road\, Orange\, CA\, 92869\, United States
GEO:33.796332;-117.7540921
X-APPLE-STRUCTURED-LOCATION;VALUE=URI;X-ADDRESS=1 Irvine Park Road Orange CA 92869 United States;X-APPLE-RADIUS=500;X-TITLE=1 Irvine Park Road:geo:-117.7540921,33.796332
CATEGORIES:Red,JaJaâ€™s Picks
ATTACH;FMTTYPE=image/jpeg:http://www.lajajakids.com/wp-content/uploads/2018/04/exhibits_science-in-the-park.jpg
END:VEVENT
END:VCALENDAR