BEGIN:VCALENDAR
VERSION:2.0
PRODID:-//La JaJa - ECPv4.3.4.1//NONSGML v1.0//EN
CALSCALE:GREGORIAN
METHOD:PUBLISH
X-WR-CALNAME:La JaJa
X-ORIGINAL-URL:http://www.lajajakids.com/en
X-WR-CALDESC:Events for La JaJa
BEGIN:VEVENT
DTSTART;VALUE=DATE:20181124
DTEND;VALUE=DATE:20191114
DTSTAMP:20260423T050440
CREATED:20170520T031254Z
LAST-MODIFIED:20181122T193813Z
UID:40421-1543017600-1573775999@www.lajajakids.com
SUMMARY:Free Crafts for Kids
DESCRIPTION:11:00 am - 3:00 pm\n\nEvery Saturday we do free crafts for kids! Come by today By and make a fun cool craft with us! Our crafts are always awesome! Call or check our website for specific craft each week!\n\nOct 6: Crafty Corn on the Cob\nOct 13: Cute to the Core Craft\nOct 20: Silly Spider Headband\nOct 27: “I Want to Be…” Career Mask\n\nNov 3: Falling Leaves 3-D Tree\nNov 10: Friendly Fall Scarecrow\nNov 17: Hide-And-Seek Turkey\nNov 24: My Favorite Slice of Pie\n\n
URL:http://www.lajajakids.com/en/event/weekly-free-crafts-for-kids-%e9%80%b1%e6%9c%ab%e5%85%8d%e8%b2%bb%e5%85%92%e7%ab%a5%e6%89%8b%e5%b7%a5%e8%97%9d%e8%aa%b2-3/2018-11-24/
ATTACH;FMTTYPE=image/jpeg:http://www.lajajakids.com/wp-content/uploads/2017/04/AT4150_Main.jpg
END:VEVENT
BEGIN:VEVENT
DTSTART;VALUE=DATE:20181222
DTEND;VALUE=DATE:20191222
DTSTAMP:20260423T050440
CREATED:20170420T213727Z
LAST-MODIFIED:20181221T173819Z
UID:23149-1545436800-1577059199@www.lajajakids.com
SUMMARY:FIGat7th Kids Club
DESCRIPTION:2:00 to 4:00pm\n\nFIGat7th Kids Club\nFREE Arts & Crafts Workshop\nEvery 2nd & 4th Saturday | 2pm-4pm\nTASTE Level (Lower Level\, M1)\nFree & Open to the Public\n\nChildren must be accompanied by adult. Art workshops are suitable for all children ages 3 and older.\n\nUpcoming Workshops:\n\n7/8: Envelope Origami Hand Puppet\n7/22: Beach Wallet\n\n8/12: Jurassic Dinosaur Art\n8/26: Sand Mandala\n\n9/9: Giant Origami Crane\n9/23: 3-D Carousel\n\n10/27: Monster Mask\n11/10: 3-D Autumn Tree Sculpture\n11/24: Metal working\n12/8: Mosaic\n12/22: Snow Globes\n\nhttp://www.figat7th.com/events/
URL:http://www.lajajakids.com/en/event/figat7th-kids-club-%e8%b2%bb%e6%a0%bc%e7%be%85%e5%a4%a7%e9%81%93%e9%80%b1%e6%9c%ab%e5%85%92%e7%ab%a5%e4%bf%b1%e6%a8%82%e9%83%a8-2/2018-12-22/
LOCATION:735 South Figueroa St.\,  Los Angeles\, CA\, 90017\, United States
GEO:34.0492459;-118.2617532
X-APPLE-STRUCTURED-LOCATION;VALUE=URI;X-ADDRESS=735 South Figueroa St.  Los Angeles CA 90017 United States;X-APPLE-RADIUS=500;X-TITLE=735 South Figueroa St.:geo:-118.2617532,34.0492459
CATEGORIES:Red,JaJa’s Picks
ATTACH;FMTTYPE=image/jpeg:http://www.lajajakids.com/wp-content/uploads/2017/04/Figat7thFest-WEB-image-300x142.jpg
END:VEVENT
BEGIN:VEVENT
DTSTART;VALUE=DATE:20190217
DTEND;VALUE=DATE:20190317
DTSTAMP:20260423T050440
CREATED:20180120T051427Z
LAST-MODIFIED:20190215T235252Z
UID:55733-1550361600-1552867199@www.lajajakids.com
SUMMARY:Children's Garden Workshops
DESCRIPTION:The vermiculture process uses worms to break down food waste to make nutritious soil for plants to grow in. In this workshop\, learn how to make your own miniature worm composting bins using recycled materials. Supplies limited; register by Thursday before start date.\n\nParticipants should bring two nested containers. They can be yogurt containers\, to-go soup containers\, large tupperware\, etc. The container should be plastic and preferably with a lid and a wide mouth. Holes will be punctured to the lid and bottom of the containers for drainage and air. Soil\, shredded newspaper\, bits of food and worms will be provided on the day of the workshop.\n\nWorkshops are weather permitting.\n\nFebruary 17: Squirmy Wormies\nMarch 17: Spring is Here
URL:http://www.lajajakids.com/en/event/%e6%a4%8d%e7%89%a9%e6%a8%82%e5%9c%92%e5%ad%b8%e7%bf%92%e7%8f%ad/
LOCATION:6990 Marine Way\,\, Irvine\, CA\, 92618\, United States
GEO:33.6731428;-117.751158
X-APPLE-STRUCTURED-LOCATION;VALUE=URI;X-ADDRESS=6990 Marine Way Irvine CA 92618 United States;X-APPLE-RADIUS=500;X-TITLE=6990 Marine Way\,:geo:-117.751158,33.6731428
CATEGORIES:Red,JaJa’s Picks
ATTACH;FMTTYPE=image/jpeg:http://www.lajajakids.com/wp-content/uploads/2018/01/img-0208_orig.jpg
END:VEVENT
END:VCALENDAR