BEGIN:VCALENDAR
VERSION:2.0
PRODID:-//La JaJa - ECPv4.3.4.1//NONSGML v1.0//EN
CALSCALE:GREGORIAN
METHOD:PUBLISH
X-WR-CALNAME:La JaJa
X-ORIGINAL-URL:http://www.lajajakids.com/en
X-WR-CALDESC:Events for La JaJa
BEGIN:VEVENT
DTSTART;VALUE=DATE:20190216
DTEND;VALUE=DATE:20190217
DTSTAMP:20260420T042602
CREATED:20190215T231121Z
LAST-MODIFIED:20190215T231121Z
UID:66471-1550275200-1550447999@www.lajajakids.com
SUMMARY:Hayao Miyazaki Films at the Frida
DESCRIPTION:My Neighbor Totoro is about two young girls who develop a friendship with the large bunny-like creature Totoro.  Rated G.  Presented in Japanese\, with English subtitles.\n\nMy Neighbor Totoro Showtimes:\nSaturday\, February 16: 12pm\, 2pm\, 6pm\nSunday\, February 17: 12pm\, 2pm\, 4pm\, 6pm\n\nIn Princess Mononoke\, young warrior Ashitaka becomes afflicted with a deadly curse that grants him super-human power in battle but will eventually take his life. Traveling west to find a cure he meets San (Princess Mononoke)\, a girl raised by wolf-gods.\n\nRated PG-13 for (animated) violence and gore. Recommended for ages 10 and up.\n\nPrincess Monoke Showtimes:\nSaturday\, February 16: 11:30am\, 2:30pm\, 5pm\nSunday\, February 17: 2:30pm\, 5pm\, 8:30pm
URL:http://www.lajajakids.com/en/event/frida%e5%ae%ab%e5%b4%8e%e9%a7%bf%e9%9b%bb%e5%bd%b1%e6%97%a5/
LOCATION:305 E. 4th St. #100\, Santa Ana\, CA\, 92701\, United States
CATEGORIES:Red,JaJa’s Picks
ATTACH;FMTTYPE=image/jpeg:http://www.lajajakids.com/wp-content/uploads/2019/02/big_thumb.jpg
END:VEVENT
END:VCALENDAR