BEGIN:VCALENDAR
VERSION:2.0
PRODID:-//La JaJa - ECPv4.3.4.1//NONSGML v1.0//EN
CALSCALE:GREGORIAN
METHOD:PUBLISH
X-WR-CALNAME:La JaJa
X-ORIGINAL-URL:http://www.lajajakids.com/en
X-WR-CALDESC:Events for La JaJa
BEGIN:VEVENT
DTSTART;TZID=America/Los_Angeles:20180722T103000
DTEND;TZID=America/Los_Angeles:20180722T170000
DTSTAMP:20260419T143322
CREATED:20180720T071243Z
LAST-MODIFIED:20180720T071243Z
UID:61875-1532255400-1532278800@www.lajajakids.com
SUMMARY:Future Hits
DESCRIPTION:The band Future Hits plays at McCabe's Sunday kids' concert series. Mom and Dad can sip free coffee while little ones get their groove on.\n\nChecking out the instruments in the store afterwards is always fun\, too.
URL:http://www.lajajakids.com/en/event/eng-future-hits/
LOCATION:3101 Pico Blvd.\, Santa Monica\, CA\, United States
CATEGORIES:Green
ATTACH;FMTTYPE=image/jpeg:http://www.lajajakids.com/wp-content/uploads/2018/07/future_hits.jpg
END:VEVENT
END:VCALENDAR