BEGIN:VCALENDAR
VERSION:2.0
PRODID:-//La JaJa - ECPv4.3.4.1//NONSGML v1.0//EN
CALSCALE:GREGORIAN
METHOD:PUBLISH
X-WR-CALNAME:La JaJa
X-ORIGINAL-URL:http://www.lajajakids.com/en
X-WR-CALDESC:Events for La JaJa
BEGIN:VEVENT
DTSTART;TZID=America/Los_Angeles:20180610T130000
DTEND;TZID=America/Los_Angeles:20180610T160000
DTSTAMP:20260419T173238
CREATED:20180608T080549Z
LAST-MODIFIED:20180608T080549Z
UID:60751-1528635600-1528646400@www.lajajakids.com
SUMMARY:CAAM Maker Fest
DESCRIPTION:The California African American Museum invites everyone to participate in this all-day\, all-ages affair\, featuring maker stations by local artists. Guests learn from the pros of the community and take home several creative treasures of their own.\n\nArtists leading workshops include: Yrneh Gabon\, who uses raw clay vessels and sculpture to discuss water issues; Silas Munro\, whose lettering design exercises map and image our city; and Cole M. James\, who  presents a collage workshop centered on the narrative of preparing to breathe.\n\nNo prior art experience necessary. Art materials provided.\nRSVP: https://www.eventbrite.com/e/makers-fest-tickets-44035336878
URL:http://www.lajajakids.com/en/event/caam-%e5%b7%a5%e4%bd%9c%e5%9d%8a/
LOCATION:600 State Drive\, Los Angeles\, CA\, 90037\, United States
GEO:34.0159416;-118.2836284
X-APPLE-STRUCTURED-LOCATION;VALUE=URI;X-ADDRESS=600 State Drive Los Angeles CA 90037 United States;X-APPLE-RADIUS=500;X-TITLE=600 State Drive:geo:-118.2836284,34.0159416
CATEGORIES:Memorial Weekend
ATTACH;FMTTYPE=image/jpeg:http://www.lajajakids.com/wp-content/uploads/2018/06/caam_maker_0.jpg
END:VEVENT
END:VCALENDAR