BEGIN:VCALENDAR
VERSION:2.0
PRODID:-//La JaJa - ECPv4.3.4.1//NONSGML v1.0//EN
CALSCALE:GREGORIAN
METHOD:PUBLISH
X-WR-CALNAME:La JaJa
X-ORIGINAL-URL:http://www.lajajakids.com/en
X-WR-CALDESC:Events for La JaJa
BEGIN:VEVENT
DTSTART;VALUE=DATE:20180407
DTEND;VALUE=DATE:20180407
DTSTAMP:20260421T175513
CREATED:20180405T221144Z
LAST-MODIFIED:20180405T221144Z
UID:58424-1523059200-1523145599@www.lajajakids.com
SUMMARY:Peasprout Chen\, Future Legend of Skate and Sword" Launch Party & Performance with Henry Lien
DESCRIPTION:\n\nAuthor Henry Lien visits Children's Book World for a high energy launch party for his adventure-filled new book. Guests learn about the Pearl Famous Academy of Skate and Sword\, where the blades are sharp and the competition is fierce.\n\nAs a student of the school\, Peasprout Chen dreams of becoming a legend of wu liu\, the deadly and beautiful art of martial arts figure skating. The event features a live performance of wu lui (without the skates)\, featuring blend gliding (a form of tap/hip hop dance) with kung fun and skating gestures.
URL:http://www.lajajakids.com/en/event/%e7%ab%a5%e6%9b%b8%e5%86%b0%e5%88%80%e8%88%87%e5%8a%8d%e5%ae%a3%e5%82%b3/
LOCATION:10580 ½ Pico Blvd.\, Los Angeles\, CA\, 90064\, United States
GEO:34.0436253;-118.4214036
X-APPLE-STRUCTURED-LOCATION;VALUE=URI;X-ADDRESS=10580 ½ Pico Blvd. Los Angeles CA 90064 United States;X-APPLE-RADIUS=500;X-TITLE=10580 ½ Pico Blvd.:geo:-118.4214036,34.0436253
CATEGORIES:Yellow
END:VEVENT
END:VCALENDAR