BEGIN:VCALENDAR
VERSION:2.0
PRODID:-//La JaJa - ECPv4.3.4.1//NONSGML v1.0//EN
CALSCALE:GREGORIAN
METHOD:PUBLISH
X-WR-CALNAME:La JaJa
X-ORIGINAL-URL:http://www.lajajakids.com/en
X-WR-CALDESC:Events for La JaJa
BEGIN:VEVENT
DTSTART;VALUE=DATE:20180225
DTEND;VALUE=DATE:20180225
DTSTAMP:20260419T164503
CREATED:20180224T155738Z
LAST-MODIFIED:20180224T155738Z
UID:57124-1519516800-1519603199@www.lajajakids.com
SUMMARY:Faery Hunt Family Series
DESCRIPTION:A Faery Hunt\, the Nickelodeon winner for “Best Children’s Theater in Los Angeles” creates Fairyland by weaving their faery magic with original stories\, dancing and songs that will inspire the best in all of us. There is only gentle and silly fun in A Faery Hunt shows. There is nothing scary in our Faeryland.\n\nWhat a lovely way to spend a morning with the family\, outdoors in nature while inspiring the imaginations of everyone involved. All performances are outdoors except shows at the Sunset Theatre Company (which is indoors and outdoors). Children are encouraged to come in their favorite fairy\, princess or super hero costume! Maybe some of the parents would like to join in on the fun and come in costume too. Closed comfortable shoes\, sunscreen\, and water suggested for outdoor shows.\n\nA Faery Hunt offers exciting\, fun birthday parties. Birthday parties are welcome at all shows! Push the easy button and have your party with one of the scheduled shows or at your private event. Email us with any questions and or to make a reservation or hire us for a private party by clicking here A Faery Hunt email
URL:http://www.lajajakids.com/en/event/%e4%bb%99%e5%a5%b3%e4%bb%99%e9%81%8a%e8%a8%98/
LOCATION:1603 Aviation Blvd. #6\, Redondo Beach\, CA\, 90278\, United States
GEO:33.8696523;-118.3828654
X-APPLE-STRUCTURED-LOCATION;VALUE=URI;X-ADDRESS=1603 Aviation Blvd. #6 Redondo Beach CA 90278 United States;X-APPLE-RADIUS=500;X-TITLE=1603 Aviation Blvd. #6:geo:-118.3828654,33.8696523
CATEGORIES:Red,JaJa’s Picks
ATTACH;FMTTYPE=image/jpeg:http://www.lajajakids.com/wp-content/uploads/2018/02/thumb58ebedb071769.jpg
END:VEVENT
END:VCALENDAR